BEGIN:VCALENDAR
VERSION:2.0
PRODID:-//Patriot Guard Riders - ECPv5.3.2.1//NONSGML v1.0//EN
CALSCALE:GREGORIAN
METHOD:PUBLISH
X-WR-CALNAME:Patriot Guard Riders
X-ORIGINAL-URL:https://www.patriotguard.org
X-WR-CALDESC:Events for Patriot Guard Riders
BEGIN:VTIMEZONE
TZID:America/New_York
BEGIN:DAYLIGHT
TZOFFSETFROM:-0500
TZOFFSETTO:-0400
TZNAME:EDT
DTSTART:20170312T070000
END:DAYLIGHT
BEGIN:STANDARD
TZOFFSETFROM:-0400
TZOFFSETTO:-0500
TZNAME:EST
DTSTART:20171105T060000
END:STANDARD
END:VTIMEZONE
BEGIN:VEVENT
DTSTART;TZID=America/New_York:20170720T113000
DTEND;TZID=America/New_York:20170720T133000
DTSTAMP:20210405T211814
CREATED:20170720T153000Z
LAST-MODIFIED:20191201T030633Z
UID:311157-1500550200-1500557400@www.patriotguard.org
SUMMARY:Leland Washington\, USA - Vietnam
DESCRIPTION:THIS MISSION IS NOW A STAND DOWN \nLeland Washington \nUSA – Vietnam \nMULTI-CITY\, California – 20 Jul 2017\n\n\n[HR][/HR] \nABOUT THE MISSION: \nThe Patriot Guard Riders have been requested to escort Mr. Leland Washington\, US ARMY\, to his final resting place. Vietnam combat infantrymen having suffered several disabilities that contributed to his loss of life. He was a wonderful husband\, father and great servant to his country. He was a member of VFW Post 99 in Los Altos\, Ca. He provided service and assistance to Veterans throughout Northern California.  He always made time help others. Please bring your flags and let’s honor their Hero. \nPRIMARY STAGING DETAILS: 20 Jul 2017 \n\n\nPrimary Staging Time: 11:30 A.M.\n\n\nWillow Glen Funeral Home\,\n1039 Lincoln\,Ave\nSan Jose\, California – 95125 \nhttp://mapq.st/2uL3MSk \n\n\nRide Captain:\n\n\nTBD \n\n\nSpecial Instructions: \n\n\n\n\nFlags & Water:\n\n\nFlags Will NOT Be Provided\, Please Bring Your Own.\nIf you have large bike flags\, please bring them.\nWater WILL NOT be provided\, please bring your own.\n\n\n[HR][/HR] \nSTAGING #2 DETAILS: 20 Jul\, 2017 \n\n\nStaging #2 Time: 1:30 P.M.\n\n\nCalifornia Central Coast Veterans Cemetery (CCCVC)\n2900 Parker Flats Rd\nSeaside\, California – 93955 \n\n\nRide Captain:\n\n\nTBD Please step up if you can. \n\n\nSpecial Instructions:\n\n\nServices start promptly at 1400 hrs. \n\n\nFlags & Water:\n\n\nFlags Will NOT Be Provided\, Please Bring Your Own.\nLarge Bike Flags will be needed\nWater WILL NOT be provided\, please bring your own.\n\n\nSubmitted By: Buzz Bickham\nPosition: Assistant State Captain \n\n[HR][/HR] \nNote:\n\nYou do not have to own/ride a motorcycle or be a Veteran to join and membership is Free. The only requirement is RESPECT!To join\, simply go to www.PatriotGuard.org and click on Register. Membership is Free. \nTo subscribe to receive mission notices\, log into the National Site and click on the Mission Tab at the top. Select Upcoming Missions by State. Scroll to the state(s) you would like to receive notices for and click on the green check mark. Detailed instructions are also located in the FAQs on the site by clicking on the Quick Links Tab and selecting FAQs.
URL:https://www.patriotguard.org/mission/leland-washington-usa-vietnam/
END:VEVENT
END:VCALENDAR