BEGIN:VCALENDAR
VERSION:2.0
PRODID:-//Patriot Guard Riders - ECPv5.3.2.1//NONSGML v1.0//EN
CALSCALE:GREGORIAN
METHOD:PUBLISH
X-WR-CALNAME:Patriot Guard Riders
X-ORIGINAL-URL:https://www.patriotguard.org
X-WR-CALDESC:Events for Patriot Guard Riders
BEGIN:VTIMEZONE
TZID:America/New_York
BEGIN:DAYLIGHT
TZOFFSETFROM:-0500
TZOFFSETTO:-0400
TZNAME:EDT
DTSTART:20170312T070000
END:DAYLIGHT
BEGIN:STANDARD
TZOFFSETFROM:-0400
TZOFFSETTO:-0500
TZNAME:EST
DTSTART:20171105T060000
END:STANDARD
END:VTIMEZONE
BEGIN:VEVENT
DTSTART;TZID=America/New_York:20170202T094500
DTEND;TZID=America/New_York:20170202T114500
DTSTAMP:20210401T163150
CREATED:20170202T144500Z
LAST-MODIFIED:20191201T034900Z
UID:344935-1486028700-1486035900@www.patriotguard.org
SUMMARY:Leighton H. Jackson\, Retired\, USAF - Korea\, Vietnam
DESCRIPTION:Senior Master Sgt Leighton H. Jackson\, Retired \nUSAF  – Korea\, Vietnam\nOak RIdge\, Tennessee – 02 Feb 2017\n\n\n\n[HR][/HR]\nABOUT THE MISSION: \nThe Great State of TN has lost another of her heroes. \nLeighton H. Jackson\, 81\, a 26 year veteran of the US Air Force\, passed  away Jan 28\, 2017.  Mr. Jackson was a Senior Master Sargent who  faithfully served our country during the Korean War and the Vietnam War. \nHis family has asked that we help them pay tribute to their hero and it will be our honor to do so. \nReceiving friends 10:30 am – 1:00 pm\nFuneral service to follow immediately afterward. \nEscort to cemetery after funeral for graveside service \nPRIMARY STAGING DETAILS:  02 Feb 2017 \n \nPrimary Staging Time:  9:45 A.M.\n\nMartin’s Funeral Home\n1017 Oak Ridge Turnpike\nOak RIdge\, Tennessee – 37830\n\n\n\n\n \n\nRide Captain:\n\nKen Roberts\n865-296-4027\n\n\n\n\nSpecial Instructions:\n\nStage directly at the funeral home\n\n\n\n\nFlags & Water:\n\nFlags Will Be Provided\n\nIf you have large bike flags\, please bring them.\n\nWater WILL NOT be provided\, please bring your own.\n\n\n[HR][/HR]\nSTAGING #2 DETAILS:  02 Feb\, 2017 \n \n Staging #2 Time:  9:45 A.M.\n\nMartin’s Funeral Home\n1017 Oak Ridge Turnpike\nOak RIdge\, Tennessee – 37830\n\n\n\n\n\n\nRide Captain:\n\nKen Roberts\n865-296-4027\n\n\n\n\nSpecial Instructions:\n\nEscort to cemetery to leave immediately after the service.  We will be doing a flag line at the graveside.\n\n\n\n\nFlags & Water:\n\nFlags Will Be Provided\n\nLarge Bike Flags will be needed\n\nWater WILL NOT be provided\, please bring your own.\n\n\n\nSubmitted By:  Larry Hale\nPosition:  Ride Captain \n[HR][/HR]\nNote:\nYou do not have to own/ride a motorcycle or be a Veteran to join and membership is Free. The only requirement is RESPECT! To join\, simply go to Patriot Guard website and click on Register. Membership is Free. \nTo subscribe to receive mission notices\, log into the National Site and  click on the Mission Tab at the top. Select Upcoming Missions by State.  Scroll to the state(s) you would like to receive notices for and click  on the green check mark. Detailed instructions are also located in the  FAQs on the site by clicking on the Quick Links Tab and selecting FAQs.
URL:https://www.patriotguard.org/mission/leighton-h-jackson-retired-usaf-korea-vietnam/
END:VEVENT
END:VCALENDAR