BEGIN:VCALENDAR
VERSION:2.0
PRODID:-//Patriot Guard Riders - ECPv5.3.2.1//NONSGML v1.0//EN
CALSCALE:GREGORIAN
METHOD:PUBLISH
X-WR-CALNAME:Patriot Guard Riders
X-ORIGINAL-URL:https://www.patriotguard.org
X-WR-CALDESC:Events for Patriot Guard Riders
BEGIN:VTIMEZONE
TZID:America/New_York
BEGIN:DAYLIGHT
TZOFFSETFROM:-0500
TZOFFSETTO:-0400
TZNAME:EDT
DTSTART:20190310T070000
END:DAYLIGHT
BEGIN:STANDARD
TZOFFSETFROM:-0400
TZOFFSETTO:-0500
TZNAME:EST
DTSTART:20191103T060000
END:STANDARD
END:VTIMEZONE
BEGIN:VEVENT
DTSTART;VALUE=DATE:20190619
DTEND;VALUE=DATE:20190620
DTSTAMP:20210405T063900
CREATED:20190618T131138Z
LAST-MODIFIED:20190618T131138Z
UID:165081-1560902400-1560988799@www.patriotguard.org
SUMMARY:Lehman R. Bennett
DESCRIPTION:Honor Mission\nLehman R. Bennett \, Veteran\nUSA –\nMesquite\, Texas – 06-19-19\n\n\n\n\nABOUT THE MISSION: \nFuneral Service\, Procession and Interment Mr. Bennett was inducted on Feb. 12\, 1952 serving with the Signal Corps while stationed in Germany. He achieved the rank of Corporal and served with honor until his discharge on January 21\, 1954. His awards include the Army Occupation Medal; National Defense Service Medal and the Good Conduct Medal\n\n\nPRIMARY STAGING DETAILS: 06-19-19 \nStaging Time: 1:00 pm \nSt. Stephen United Methodist Church\n2520 Oates Drive\nMesquite\, Texas 75150\n\n\nRide Captain: \nBill Kushnir\nbpkush@gte.net(214) 995-1536\nJeffrey Wike\nasm757@att.net(817) 301-4293\n\n\nSpecial Instructions: \nFuneral Service/Procession Staging Time 1:00 Briefing Time 1:15 In Position/KSU Time 1:30 Starting Time 2:00\nRiders will stage at the church  to stand tall and silent as family and friends arrive. After the service begins\, flags will be returned to the flag support vehicle which will depart for the cemetery to set flags along with riders who will not be riding in the procession. Procession riders will then receive a safety briefing and stage for the procession to the cemetery. Procession Escort Provided\n\nFlags & Water:\nFlags will be provided\nIf you have large bike flags\, please bring them.\nWater will be provided.\n\nSTAGING #2 DETAILS: 06-19-19 \nStaging Time: 3:00  \nRestland\n13005 Greenville Ave\nDallas\, Texas 75243\n\n\nRide Captain: \nBill Kushnir\nbpkush@gte.net  (214) 995-1536\nJeffrey Wike\nasm757@att.net   (817) 301-4293\n\n\nSpecial Instructions: \n Briefing Time 3:15  In Position/KSU Time 3:30  Starting Time 3:45  Time Estimated Riders not participating in Part One will stage at the cemetery to be briefed\, set flags and await the arrival of the procession. Riders in the procession will quickly dismount and join the flag line. Riders will stand tall and silent until the completion of the service\, after which flags will be returned to the flag support vehicle.\n\nFlags & Water:\nFlags will be provided\nLarge Bike Flags will NOT be needed.\nWater will be provided.\n\n\n\nSubmitted By: Dan Mathys \nPosition: Texas Ride Captain \n\nNote: You do not have to own/ride a motorcycle or be a veteran to join\, and membership is Free. The only requirement is RESPECT! To subscribe to receive mission notices\, log into the National Site and click on the Members tab at the top. Select the Subscribe to PGR Missions option.\n Print This Page
URL:https://www.patriotguard.org/mission/lehman-r-bennett/
CATEGORIES:Honor Mission
END:VEVENT
END:VCALENDAR