BEGIN:VCALENDAR
VERSION:2.0
PRODID:-//Patriot Guard Riders - ECPv5.3.2.1//NONSGML v1.0//EN
CALSCALE:GREGORIAN
METHOD:PUBLISH
X-WR-CALNAME:Patriot Guard Riders
X-ORIGINAL-URL:https://www.patriotguard.org
X-WR-CALDESC:Events for Patriot Guard Riders
BEGIN:VTIMEZONE
TZID:America/New_York
BEGIN:DAYLIGHT
TZOFFSETFROM:-0500
TZOFFSETTO:-0400
TZNAME:EDT
DTSTART:20190310T070000
END:DAYLIGHT
BEGIN:STANDARD
TZOFFSETFROM:-0400
TZOFFSETTO:-0500
TZNAME:EST
DTSTART:20191103T060000
END:STANDARD
END:VTIMEZONE
BEGIN:VEVENT
DTSTART;VALUE=DATE:20190702
DTEND;VALUE=DATE:20190703
DTSTAMP:20210404T022154
CREATED:20190629T143557Z
LAST-MODIFIED:20190629T143557Z
UID:166212-1562025600-1562111999@www.patriotguard.org
SUMMARY:Lee Buddy Richardson
DESCRIPTION:Honor Mission\nLee Buddy Richardson\, Veteran\nUSA\nSt Peters\, Missouri – 07-02-19\n\n\n\n\nABOUT THE MISSION: \nThe Patriot Guard Riders have been invited to honor a revered member of the United States Military.  The family of Lee Buddy Richardson has requested that we stand a flag line of honor and respect.  It will be our honor to do so. We will then escort their loved one to his final resting place in the Hallowed Grounds of Jefferson Barracks National Cemetery for his final military honors Hero Richardson served in the United States Army from May 1953 to April 1955.  He earned the rank of E4 and was a Gun Crewman\, attached to Battery A 33rd AAA Battalion at Fort Bliss\, Texas.  Corporal Richardson was awarded the National Defense Service Medal.  Thank you\, Mr. Richardson\, from a grateful Nation.  Your faithful dedication to serve the United States of America is deeply appreciated\, and will never be forgotten.\n\n\nPRIMARY STAGING DETAILS: 07-02-19 \nStaging Time:  9:45 am \nNewcomer Cremations\, Funerals & Receptions\n837 Mid Rivers Mall Dr\nSt Peters\, Missouri 63376 \n\n\n\nRide Captain: \nJoseph “Mustang” Bilodeau\njoseph1918@aol.com\n(636) 577-4767\n\n\nSpecial Instructions: \nStage/Mission Brief:  9:45 am\nFlag Line:  10:00 am to 11:00 am\nFuneral Service: 11:00 am.  Following the service\, we will escort our hero to Jefferson Barracks National Cemetery for a 2:00 pm slot.  Weather forecast is mainly cloudy with a high of 91F. 0% chance of rain.  Dress appropriately.Flags and Support by TBD.  Cages are always welcome.  Remember to Hydrate\, Hydrate\, Hydrate.\n\nFlags & Water:\nFlags will be provided\nIf you have large bike flags\, please bring them.\nWater will be provided.\n\n\n\nSubmitted By: Joseph Bilodeau \nPosition: Missouri Ride Captain \n\nNote: You do not have to own/ride a motorcycle or be a veteran to join\, and membership is Free. The only requirement is RESPECT! To subscribe to receive mission notices\, log into the National Site and click on the Members tab at the top. Select the Subscribe to PGR Missions option.\n Print This Page
URL:https://www.patriotguard.org/mission/lee-buddy-richardson/
CATEGORIES:Honor Mission
END:VEVENT
END:VCALENDAR