BEGIN:VCALENDAR
VERSION:2.0
PRODID:-//Patriot Guard Riders - ECPv5.6.0//NONSGML v1.0//EN
CALSCALE:GREGORIAN
METHOD:PUBLISH
X-WR-CALNAME:Patriot Guard Riders
X-ORIGINAL-URL:https://www.patriotguard.org
X-WR-CALDESC:Events for Patriot Guard Riders
BEGIN:VTIMEZONE
TZID:America/New_York
BEGIN:DAYLIGHT
TZOFFSETFROM:-0500
TZOFFSETTO:-0400
TZNAME:EDT
DTSTART:20160313T070000
END:DAYLIGHT
BEGIN:STANDARD
TZOFFSETFROM:-0400
TZOFFSETTO:-0500
TZNAME:EST
DTSTART:20161106T060000
END:STANDARD
END:VTIMEZONE
BEGIN:VEVENT
DTSTART;TZID=America/New_York:20160630T090000
DTEND;TZID=America/New_York:20160630T110000
DTSTAMP:20210512T224828
CREATED:20160630T130000Z
LAST-MODIFIED:20191201T144723Z
UID:410954-1467277200-1467284400@www.patriotguard.org
SUMMARY:Leander Oertli\, 88
DESCRIPTION:Leander “Lee” Oertli\, 88\nUSA Veteran\nAdrian\, MN\n30 JUNE 2016\n\n\n\nThe family of US Army Veteran Leander “Lee” Oertli has invited the Patriot Guard Riders to stand with Honor\, Dignity and Respect during his funeral on June 30th in Adrian\, MN.  Lee proudly served his country from 1951-53 and was stationed in Germany and achieved the rank of Corporal.  He passed away on 6-25-16 at the age of 88 years.  He was a resident of the Veteran’s Home in Luverne and enjoyed the Patriot Guard Rider visits as we hosted Bingo at the home. \nWe will stage at the Adrian Funeral Home\, 109 Maine Avenue\, at 9:15 am.  The Adrian Funeral Home is located south of I-90\, exit 26 on MN Hwy 91 (Maine Avenue) on the west side of the street after crossing the railroad tracks.  Additional details will be given out during staging.  Expected dismissal will be approximately 12:00 pm. \nThe weather forecast for Adrian on June 30th is for a high of 77 with a 30% chance of thunderstorms.  Please bring whatever you need to be self-sufficient (including water) during this mission\, your 3’x5’ US flag and pole and ride or drive safely as we gather to honor US Army Veteran Leander “Lee” Oertli. \nRide Captain for this mission will be Paul Ramsbey.\nworthington@mnpatriotguard.org
URL:https://www.patriotguard.org/mission/leander-oertli-88/
CATEGORIES:Archive
END:VEVENT
END:VCALENDAR