BEGIN:VCALENDAR
VERSION:2.0
PRODID:-//Patriot Guard Riders - ECPv5.6.0//NONSGML v1.0//EN
CALSCALE:GREGORIAN
METHOD:PUBLISH
X-WR-CALNAME:Patriot Guard Riders
X-ORIGINAL-URL:https://www.patriotguard.org
X-WR-CALDESC:Events for Patriot Guard Riders
BEGIN:VTIMEZONE
TZID:America/New_York
BEGIN:DAYLIGHT
TZOFFSETFROM:-0500
TZOFFSETTO:-0400
TZNAME:EDT
DTSTART:20160313T070000
END:DAYLIGHT
BEGIN:STANDARD
TZOFFSETFROM:-0400
TZOFFSETTO:-0500
TZNAME:EST
DTSTART:20161106T060000
END:STANDARD
END:VTIMEZONE
BEGIN:VEVENT
DTSTART;TZID=America/New_York:20160823T090000
DTEND;TZID=America/New_York:20160823T110000
DTSTAMP:20210511T201620
CREATED:20160823T130000Z
LAST-MODIFIED:20191201T143459Z
UID:409806-1471942800-1471950000@www.patriotguard.org
SUMMARY:LCDR Donald Emil Herrmann\, USN(RET)
DESCRIPTION:We have been requested to support and honor LCDR Donald Emil Herrmann USN (Ret).  The Patriot Guard Riders will be honored to do so.\n\nThe wife of LCDR Donald Emil Herrmann USN (Ret) has asked the PGR to stand a flag line to honor her husband at the interment in Fort Rosecrans National Cemetery. \nHe served his country from 1934 to 1959 from the landing ships at Normandy in WWII to the transportation of refugees from Vietnam. \nAnother member of the greatest generation is laid to rest.   He is survived by his wife and two daughters. \nNOTE: This mission posting is to facilitate your voluntary participation in honoring this Military Veteran. For those interested\, and all are welcome\, please see the time table below. \nTime Table for Tuesday\, 23 August 2016: \n1100 – Stage at the Main Entrance to Fort Rosecrans National Cemetery\, 1800 Cabrillo Memorial Dr\, San Diego\, CA 92106 https://goo.gl/maps/VHuzb1zcLFD2\n1115 – Mission Briefing\n1130 – Flag Line\, Funeral Service with Full Military Honors \nR/C Bill Foerschler “Smokestack”\nbfoerschle@aol.com\n(619) 733-0745 \nYou do not have to be a Veteran or a motorcycle rider to attend this mission. Everyone is welcome. We encourage those who do not ride to attend in your car. If this will be your first mission go to the initial staging area and you will be briefed there by the R/C (Ride Captain).  Dress for motorcycle riding or dress casually if you are driving a cage (car).  Please feel free to attend any portion of this mission you can.  Please ride/drive safely.
URL:https://www.patriotguard.org/mission/lcdr-donald-emil-herrmann-usnret/
CATEGORIES:Archive
END:VEVENT
END:VCALENDAR