BEGIN:VCALENDAR
VERSION:2.0
PRODID:-//Patriot Guard Riders - ECPv5.3.2.1//NONSGML v1.0//EN
CALSCALE:GREGORIAN
METHOD:PUBLISH
X-WR-CALNAME:Patriot Guard Riders
X-ORIGINAL-URL:https://www.patriotguard.org
X-WR-CALDESC:Events for Patriot Guard Riders
BEGIN:VTIMEZONE
TZID:America/New_York
BEGIN:DAYLIGHT
TZOFFSETFROM:-0500
TZOFFSETTO:-0400
TZNAME:EDT
DTSTART:20190310T070000
END:DAYLIGHT
BEGIN:STANDARD
TZOFFSETFROM:-0400
TZOFFSETTO:-0500
TZNAME:EST
DTSTART:20191103T060000
END:STANDARD
END:VTIMEZONE
BEGIN:VEVENT
DTSTART;VALUE=DATE:20190806
DTEND;VALUE=DATE:20190807
DTSTAMP:20210402T144358
CREATED:20190803T141939Z
LAST-MODIFIED:20190803T141939Z
UID:169689-1565049600-1565135999@www.patriotguard.org
SUMMARY:Lawrence William “Billy” Anslow
DESCRIPTION:Honor Mission\nLawrence William “Billy” Anslow\nUSN\, USNR –\nColumbia\, South Carolina – 08-06-19\n\n\n\nABOUT THE MISSION: \nThe family of Master Chief Petty Officer Billy Anslow has invited the Patriot Guard Riders to stand for their hero\, it is our honor to do so. The PGR will stand a flag line for the arrival of the family of Lt. Dixon and for Lt. Dixon’s funeral service with Honors at FJNC. MCPO Anslow was born on July 22\, 1937. He served in the United States Navy as a BT-4514 Automatic Combustion Controls (Boilers) and Fireman Operator in the Navy and Naval Reserves for over 20 years. He was awarded four Good Conduct Medals.\n\n\nPRIMARY STAGING DETAILS: 08-06-19 \nStaging Time: 09:15 AM\n \nFort Jackson National Cemetery\n4170 Percival Road\nColumbia\, South Carolina 29229\nMap\n\n\nRide Captain: \nTom “Survivor” Yeoman\ntry3sc@gmail.com\n803-463-5880\n\n\nSpecial Instructions: \nThis is a Flag Line Mission (only) at FJNC.\nStaging @ Administration Building at 0915\nBriefing @ 0930 at Building Shelter\nService @ 10:00\nMilitary Honors will be provided.\nFlag Wagon: Mentor Sally “Taco” Christian.\n\n\nFlags & Water:\nFlags will be provided\nLarge Bike Flags will NOT be needed.\nWater will be provided.\n\n\n\nSubmitted By: L.Z. Harrison\, Jr. \nPosition: South Carolina Assistant State Captain \n\nNote: You do not have to own/ride a motorcycle or be a veteran to join\, and membership is Free. The only requirement is RESPECT! To subscribe to receive mission notices\, log into the National Site and click on the Members tab at the top. Select the Subscribe to PGR Missions option.\n Print This Page
URL:https://www.patriotguard.org/mission/lawrence-william-billy-anslow/
CATEGORIES:Honor Mission
END:VEVENT
END:VCALENDAR