BEGIN:VCALENDAR
VERSION:2.0
PRODID:-//Patriot Guard Riders - ECPv5.6.0//NONSGML v1.0//EN
CALSCALE:GREGORIAN
METHOD:PUBLISH
X-WR-CALNAME:Patriot Guard Riders
X-ORIGINAL-URL:https://www.patriotguard.org
X-WR-CALDESC:Events for Patriot Guard Riders
BEGIN:VTIMEZONE
TZID:America/New_York
BEGIN:DAYLIGHT
TZOFFSETFROM:-0500
TZOFFSETTO:-0400
TZNAME:EDT
DTSTART:20160313T070000
END:DAYLIGHT
BEGIN:STANDARD
TZOFFSETFROM:-0400
TZOFFSETTO:-0500
TZNAME:EST
DTSTART:20161106T060000
END:STANDARD
END:VTIMEZONE
BEGIN:VEVENT
DTSTART;TZID=America/New_York:20160701T090000
DTEND;TZID=America/New_York:20160701T110000
DTSTAMP:20210512T234140
CREATED:20160701T130000Z
LAST-MODIFIED:20191201T144643Z
UID:410890-1467363600-1467370800@www.patriotguard.org
SUMMARY:Lawrence R. Glenn\, 65
DESCRIPTION:US Marine Veteran\nLawrence R Glenn (65)\nFriday 1 July 2016\nBiloxi Mississippi\n\n\n\nWe are sad to report the death of US Marine Vietnam era Veteran Lawrence R Glenn.\nMr. Glenn has no living relatives to attend his funeral.  The PATRIOT  GUARD RIDERS will provide a silent flag line to honor this hero. \nSTAGING:\n12:15 pm\nFriday 1 July 2016\nBiloxi National Cemetery\nCommittal Shelter\nWe will provide a silent flag line for 12:30pm service. \n\nRC Randy Rushing\n[URL=”tel:228-623-1633″]228-623-1633[/URL]
URL:https://www.patriotguard.org/mission/lawrence-r-glenn-65/
CATEGORIES:Archive
END:VEVENT
END:VCALENDAR