BEGIN:VCALENDAR
VERSION:2.0
PRODID:-//Patriot Guard Riders - ECPv5.3.2.1//NONSGML v1.0//EN
CALSCALE:GREGORIAN
METHOD:PUBLISH
X-WR-CALNAME:Patriot Guard Riders
X-ORIGINAL-URL:https://www.patriotguard.org
X-WR-CALDESC:Events for Patriot Guard Riders
BEGIN:VTIMEZONE
TZID:America/New_York
BEGIN:DAYLIGHT
TZOFFSETFROM:-0500
TZOFFSETTO:-0400
TZNAME:EDT
DTSTART:20190310T070000
END:DAYLIGHT
BEGIN:STANDARD
TZOFFSETFROM:-0400
TZOFFSETTO:-0500
TZNAME:EST
DTSTART:20191103T060000
END:STANDARD
END:VTIMEZONE
BEGIN:VEVENT
DTSTART;VALUE=DATE:20190816
DTEND;VALUE=DATE:20190817
DTSTAMP:20210402T074511
CREATED:20190814T155713Z
LAST-MODIFIED:20190814T155713Z
UID:170889-1565913600-1565999999@www.patriotguard.org
SUMMARY:Lawrence P Marks
DESCRIPTION:Honor Mission\nLawrence P. Marks\, Veteran\nUSA – Vietnam\nMULTI-CITY\, Pennsylvania – 08-16-19\n\n\n\nABOUT THE MISSION: \nThe Patriot Guard Riders have been invited by the family of Lawrence P. Marks\, U.S. Army Veteran\, to stand in silent honor then escort to the cemetery for the interment. Lawrence proudly served in the U.S. Army from December 1963-December 1969 during Vietnam. Lawrence received the Good Conduct Medal\, Nation Defense Service Medal\, Vietnam Service Medal and the Vietnam Campaign Medal. After time served\, Lawrence became a member of the VFW and Member of the American Legion. Lawrence served with honor\, now its our turn to stand in honor for him.\n\n\nPRIMARY STAGING DETAILS: 08-16-19 \nStaging Time: 10:45 AM\n \nNoll Funeral Home Inc.\n333 3rd St.\nBeaver\, Pennsylvania 15009\nMap\n\n\nRide Captain: \nLewis Winnecour\nlwinne1@comcast.net\n(412) 889-5629\n\n\nSpecial Instructions: \nBriefing: 11:00 AM\nKSU\, Escorting to the cemetery: 11:15 AM\n\n\nFlags & Water:\nFlags will not be provided\nLarge Bike Flags will NOT be needed.\nWater WILL NOT be provided\, please bring your own.\n\nSTAGING #2 DETAILS: 08-16-19 \nStaging Time: 12:00 PM\n \nMemorial Walkway\, POW Circle\nNational Cemetery Of The Alleghenies\n1158 Morgan Rd.\nCecil Township\, Pennsylvania 15017\nMap\n\n\nRide Captain: \nJim Shaw\njeshaw@comcast.net\n(412)217-5967\n\n\nSpecial Instructions: \nFlag Line: 12:15 PM\nInterment with Military Honors.\nMembers can attend all of a Mission or any part of the Mission. PGR sets no time for a member to stand a Mission. We thank you for whatever time you give us and the families of our Heroes appreciate your time.\nThis time of year deer are on the move\, please be aware & alert of your surroundings. Also before heading out\, please watch the weather\, dress accordingly and hydrate.\n\n\nFlags & Water:\nFlags will not be provided.\nLarge Bike Flags will NOT be needed.\nWater WILL NOT be provided\, please bring your own.\n\n\n\nSubmitted By: Marcy Sorensen \nPosition: Pennsylvania Ride Captain \n\nNote: You do not have to own/ride a motorcycle or be a veteran to join\, and membership is Free. The only requirement is RESPECT! To subscribe to receive mission notices\, log into the National Site and click on the Members tab at the top. Select the Subscribe to PGR Missions option.\n Print This Page
URL:https://www.patriotguard.org/mission/lawrence-p-marks/
CATEGORIES:Honor Mission
END:VEVENT
END:VCALENDAR