BEGIN:VCALENDAR
VERSION:2.0
PRODID:-//Patriot Guard Riders - ECPv5.3.2.1//NONSGML v1.0//EN
CALSCALE:GREGORIAN
METHOD:PUBLISH
X-WR-CALNAME:Patriot Guard Riders
X-ORIGINAL-URL:https://www.patriotguard.org
X-WR-CALDESC:Events for Patriot Guard Riders
BEGIN:VTIMEZONE
TZID:America/New_York
BEGIN:DAYLIGHT
TZOFFSETFROM:-0500
TZOFFSETTO:-0400
TZNAME:EDT
DTSTART:20190310T070000
END:DAYLIGHT
BEGIN:STANDARD
TZOFFSETFROM:-0400
TZOFFSETTO:-0500
TZNAME:EST
DTSTART:20191103T060000
END:STANDARD
END:VTIMEZONE
BEGIN:VEVENT
DTSTART;VALUE=DATE:20190707
DTEND;VALUE=DATE:20190708
DTSTAMP:20210404T055732
CREATED:20190705T162453Z
LAST-MODIFIED:20191127T073403Z
UID:166700-1562457600-1562543999@www.patriotguard.org
SUMMARY:Lawrence Leon Watson
DESCRIPTION:Honor Mission\nSgt Lawrence Leon Watson\, Veteran\nUSMC – Vietnam\nMountain Home\, Arkansas – 07-07-19\n\n\n\nABOUT THE MISSION: \nThe Patriot Guard has been requested by the family of Lawrence Leon Watson\, 73\, to honor their hero at his funeral. Leon Watson served in the United States Marines from 1965 to 1971 when he was honorably discharged as a Sergeant. He earned several commendations while serving his country in VietNam.\nObituary\n\n\nPRIMARY STAGING DETAILS: 07-07-19 \nStaging Time: 10:15 AM\n \nRoller Funeral Home\n25 County Road 27\nMountain Home\, Arkansas 72653\nMap\n\n\nRide Captain: \nJay Lanning\nMountain Home\n(870)421-4627\nbird1559@suddenlink.net\n\n\nSpecial Instructions: \nBriefing and staging: 10:15 a.m.\nStanding flag line until commencement of service at 11:00 a.m.\nFlag line following service at Baxter Memorial Gardens\, adjacent to the funeral home\, during military honors by the Marine Honor Guard and American Legion.\nThere will not be an escort.\nCages welcome.\n\n\nFlags & Water:\nFlags will be provided\nLarge Bike Flags will NOT be needed.\nWater will be provided.\n\n\n\nSubmitted By: Jay Lanning \nPosition: Arkansas Ride Captain \n\nNote: You do not have to own/ride a motorcycle or be a veteran to join\, and membership is Free. The only requirement is RESPECT! To subscribe to receive mission notices\, log into the National Site and click on the Members tab at the top. Select the Subscribe to PGR Missions option.\n Print This Page
URL:https://www.patriotguard.org/mission/lawrence-leon-watson/
CATEGORIES:Honor Mission
END:VEVENT
END:VCALENDAR