BEGIN:VCALENDAR
VERSION:2.0
PRODID:-//Patriot Guard Riders - ECPv5.6.0//NONSGML v1.0//EN
CALSCALE:GREGORIAN
METHOD:PUBLISH
X-WR-CALNAME:Patriot Guard Riders
X-ORIGINAL-URL:https://www.patriotguard.org
X-WR-CALDESC:Events for Patriot Guard Riders
BEGIN:VTIMEZONE
TZID:America/New_York
BEGIN:DAYLIGHT
TZOFFSETFROM:-0500
TZOFFSETTO:-0400
TZNAME:EDT
DTSTART:20160313T070000
END:DAYLIGHT
BEGIN:STANDARD
TZOFFSETFROM:-0400
TZOFFSETTO:-0500
TZNAME:EST
DTSTART:20161106T060000
END:STANDARD
END:VTIMEZONE
BEGIN:VEVENT
DTSTART;TZID=America/New_York:20160804T090000
DTEND;TZID=America/New_York:20160804T110000
DTSTAMP:20210512T025920
CREATED:20160804T130000Z
LAST-MODIFIED:20191201T143952Z
UID:410263-1470301200-1470308400@www.patriotguard.org
SUMMARY:Lawrence K. Fennell\, Jr.\, 74\,  USA\, Vietnam / ASVMC\, Spanish Ft.
DESCRIPTION:4 August 2016\n\n\n\nThursday\n\n\nSP4 Lawrence K. Fennell\, Jr.\n\n\nUS Army – Vietnam Veteran\n\n\nAlabama State Veterans Memorial Cemetery in Spanish Fort\, AL \n\n\n\nFellow Riders\, \nIt is with heavy heart that I must inform you that Alabama and America has lost another true American hero.  The family of SP4 Lawrence K. Fennell\, Jr. has requested the Patriot Guard to stand in honor of him.  Mr. Fennell\, Jr. passed away at the age of 74. \nMr. Fennell\, Jr. served in Vietnam with U.S. Army 11th Armored Cavalry Regiment and was awarded the National Defense Service Medal\, Vietnam Service Medal\, Purple Heart W/ 1 Oak Leaf\, Good Conduct Medal and an Honorable Discharge.  It is our honor to stand for this true American Hero. \nThis is a flag line only service at the Committal Shelter at 1330 hrs. \nMrs. Linda Fennell has requested we escort her and several family members from staging area to cemetery.  We may expect 5 – 6 vehicles.  There will be no LEO. \n\nHis ashes will be placed in ground at the cemetery. \nMobile and Baldwin County Staging:\nBehind Old Dollar General Store (NE corner of Hwy 225 and Hwy 31)\nTime:        1230 hrs.\nBriefing:   1245 hrs.\nKSU:         1300 hrs.\nRCIC:        Ed “Juju” Lessard\, RC – (251) 978-6215\nFlags:         Committal Shelter\nHonor Guard:  U.S. Army Honor Guard
URL:https://www.patriotguard.org/mission/lawrence-k-fennell-jr-74-usa-vietnam-asvmc-spanish-ft/
CATEGORIES:Archive
END:VEVENT
END:VCALENDAR