BEGIN:VCALENDAR
VERSION:2.0
PRODID:-//Patriot Guard Riders - ECPv5.3.2.1//NONSGML v1.0//EN
CALSCALE:GREGORIAN
METHOD:PUBLISH
X-WR-CALNAME:Patriot Guard Riders
X-ORIGINAL-URL:https://www.patriotguard.org
X-WR-CALDESC:Events for Patriot Guard Riders
BEGIN:VTIMEZONE
TZID:America/New_York
BEGIN:DAYLIGHT
TZOFFSETFROM:-0500
TZOFFSETTO:-0400
TZNAME:EDT
DTSTART:20160313T070000
END:DAYLIGHT
BEGIN:STANDARD
TZOFFSETFROM:-0400
TZOFFSETTO:-0500
TZNAME:EST
DTSTART:20161106T060000
END:STANDARD
END:VTIMEZONE
BEGIN:VEVENT
DTSTART;TZID=America/New_York:20161031T090000
DTEND;TZID=America/New_York:20161031T110000
DTSTAMP:20210406T042249
CREATED:20161031T130000Z
LAST-MODIFIED:20191201T141728Z
UID:408163-1477904400-1477911600@www.patriotguard.org
SUMMARY:Lawrence E. Bowser\, USMC
DESCRIPTION:Lawrence E. Bowser\nUSMC Vietnam Veteran\nWestover\, WV\n31 October 2016\n\n\n\nThe Patriot Guard Riders have been invited to stand in silent Honor and Respect for Lawrence E. Bowser who went to be with the Lord. It is with great sorrow that we announce the passing of an American Hero. Lawrence E. Bowser died on October 27th\, 2016. \nLarry was a U.S. Marine and served in Vietnam.  The McCullough Funeral Home in Westover\, WV\, are handling funeral arrangements\, with interment on 31 October 2016 at the Beverly Hills Cemetery\, Morgantown\, WV. His family has requested that the PGR join them in honoring their loved one at his funeral service and burial. \nFuneral services will be held on Monday\, 31 October 2016\, beginning at 10:00 a.m. at: \nKingdom Evangelical Methodist Church\n540 Fairmont Road\nWestover\, WV 26501 (304)-291-3458 \nBurial will be held immediately following the service\, on 31 October 2016\, at\nBeverly Hills Cemetery\n1290 Fairmont Road\nWestover\, WV 26501. \nSTAGING Will be at:\nMcDonalds\n19 Commerce Dr\nMorgantown\, WV 26501\n(http://tinyurl.com/ju3ojdf). \nDirections: From North or South on Interstate 79\, get off at exit 152. Staging area is approximately one mile from the funeral home. \nStaging time will be NO LATER THAN 0915. \nKSU at 0930. \nFlag Line will be in place by 1000 and will be maintained until the start of services. \nThis escort will travel on hardtop roads. The distance from the funeral home to the cemetery is about four miles. \nPlease bring your 3×5 flags if you have them. \nWeather forecast for Morgantown is calling for temperatures at 47’s on Monday with a 5% chance of showers and temperatures in the upper 60’s. Please dress and travel accordingly. Bikes and cages are both welcome. \nWV RC Linda Stimmell for this Mission of Honor on 10/31/16. She can be reached via telephone at 304-599-3223.
URL:https://www.patriotguard.org/mission/lawrence-e-bowser-usmc/
CATEGORIES:Archive
END:VEVENT
END:VCALENDAR