BEGIN:VCALENDAR
VERSION:2.0
PRODID:-//Patriot Guard Riders - ECPv5.3.2.1//NONSGML v1.0//EN
CALSCALE:GREGORIAN
METHOD:PUBLISH
X-WR-CALNAME:Patriot Guard Riders
X-ORIGINAL-URL:https://www.patriotguard.org
X-WR-CALDESC:Events for Patriot Guard Riders
BEGIN:VTIMEZONE
TZID:America/New_York
BEGIN:DAYLIGHT
TZOFFSETFROM:-0500
TZOFFSETTO:-0400
TZNAME:EDT
DTSTART:20190310T070000
END:DAYLIGHT
BEGIN:STANDARD
TZOFFSETFROM:-0400
TZOFFSETTO:-0500
TZNAME:EST
DTSTART:20191103T060000
END:STANDARD
END:VTIMEZONE
BEGIN:VEVENT
DTSTART;VALUE=DATE:20190726
DTEND;VALUE=DATE:20190727
DTSTAMP:20210403T205449
CREATED:20190726T030018Z
LAST-MODIFIED:20190726T030018Z
UID:168725-1564099200-1564185599@www.patriotguard.org
SUMMARY:Lawrence Darrell Jones
DESCRIPTION:Honor Mission\nLawrence Darrell Jones\, Veteran\nUSAF – Korea\nSpringfield\, Missouri – 07-26-19\n\n\n\nABOUT THE MISSION: \nThe family and loved ones of Airman First Class Lawrence Darrell Jones has honored the Patriot Guard Riders with a request for an escort to his final resting place at the Missouri Veteran’s Cemetery\, Springfield where full military honors will be rendered. Hero Jones was born 7 Oct 28 and passed away on 20 Jul 19 at the age of 90. He graduated from high school in 1946 and joined the Air Force in Jan 1951. He served as an interpreter while serving for 3 years and 10 months. He was awarded the National Defense Service Medal and the Good Conduct Medal. After his service time\, hero Jones worked at the Sweetheart Cup Company in Springfield until his retirement in the 90’s. He liked to fish and bowl and was an avid knife and antique collector. Hero Jones is survived by his wife\, two children and several grandchildren.\n\n\nPRIMARY STAGING DETAILS: 07-26-19 \nStaging Time: 11:45 AM\n \nWalnut Lawn Funeral Home\n2001 W. Walnut Lawn St.\nSpringfield\, Missouri\n\n\nRide Captain: \nRick Starkey\n417-533-4845\n\n\nSpecial Instructions: \nSTAGE: 11:45 am\nBRIEF: 12:00pm\nESCORT: 12:25pm to Missouri Veterans Cemetery\, 5201 S. Southwood\, Springfield MO.\nCOMMITTAL SERVICE: 1:00 pm with full military honors.\nWEATHER FORECAST: 86° 10% rain\n***Cages are welcome.***\nWe will leave at the conclusion of Mission #1 and go to Holden Funeral Home in Sparta for the second escort back to MVC for a 3pm Committal Service.***\n\n\nFlags & Water:\nFlags will be provided\nIf you have large bike flags\, please bring them.\nWater WILL NOT be provided\, please bring your own.\n\n\n\nSubmitted By: Kent McGregor \nPosition: Missouri Ride Captain \n\nNote: You do not have to own/ride a motorcycle or be a veteran to join\, and membership is Free. The only requirement is RESPECT! To subscribe to receive mission notices\, log into the National Site and click on the Members tab at the top. Select the Subscribe to PGR Missions option.\n Print This Page
URL:https://www.patriotguard.org/mission/lawrence-darrell-jones/
CATEGORIES:Honor Mission
END:VEVENT
END:VCALENDAR