BEGIN:VCALENDAR
VERSION:2.0
PRODID:-//Patriot Guard Riders - ECPv5.6.0//NONSGML v1.0//EN
CALSCALE:GREGORIAN
METHOD:PUBLISH
X-WR-CALNAME:Patriot Guard Riders
X-ORIGINAL-URL:https://www.patriotguard.org
X-WR-CALDESC:Events for Patriot Guard Riders
BEGIN:VTIMEZONE
TZID:America/New_York
BEGIN:DAYLIGHT
TZOFFSETFROM:-0500
TZOFFSETTO:-0400
TZNAME:EDT
DTSTART:20160313T070000
END:DAYLIGHT
BEGIN:STANDARD
TZOFFSETFROM:-0400
TZOFFSETTO:-0500
TZNAME:EST
DTSTART:20161106T060000
END:STANDARD
END:VTIMEZONE
BEGIN:VEVENT
DTSTART;TZID=America/New_York:20160616T090000
DTEND;TZID=America/New_York:20160616T110000
DTSTAMP:20210513T151548
CREATED:20160616T130000Z
LAST-MODIFIED:20191201T145124Z
UID:411317-1466067600-1466074800@www.patriotguard.org
SUMMARY:Lawrence Charles Brown
DESCRIPTION:Lawrence Charles Brown\nUSMC Vietnam Era Veteran\nWyoming\, MI\n16 June 2016\n\n\n\nThe Patriot Guard Riders have been invited by West Michigan Cremation & Funeral Care\, to escort PVT. Brown to Ft. Custer National Cemetery and stand a silent flag line in Honor of his service to his country. \nDavid served in the U.S. MARINE CORPS from 1960 – 1964. Mr. Brown passed away on 4 June 2016 and was not claimed by any relatives. \nLocation: \nMichigan Cremation & Funeral Care\n3627 Linden Avenue S.E.\,\nWyoming\, MI (just off of 36th Street  —  one block west of Eastern Avenue). \nMap: https://goo.gl/maps/eLsbXD6zk552 \nStaging: 12:00PM \nBriefing:  12:15PM \nEscort: following the briefing to Fort Custer \nInterment at Ft. Custer 2:30 PM \nRC: TBD \nQuestions call 616 862-1984 \nPlease bring a 3X5 American Flag and dress for the weather.
URL:https://www.patriotguard.org/mission/lawrence-charles-brown/
END:VEVENT
END:VCALENDAR