BEGIN:VCALENDAR
VERSION:2.0
PRODID:-//Patriot Guard Riders - ECPv5.3.2.1//NONSGML v1.0//EN
CALSCALE:GREGORIAN
METHOD:PUBLISH
X-WR-CALNAME:Patriot Guard Riders
X-ORIGINAL-URL:https://www.patriotguard.org
X-WR-CALDESC:Events for Patriot Guard Riders
BEGIN:VTIMEZONE
TZID:America/New_York
BEGIN:DAYLIGHT
TZOFFSETFROM:-0500
TZOFFSETTO:-0400
TZNAME:EDT
DTSTART:20190310T070000
END:DAYLIGHT
BEGIN:STANDARD
TZOFFSETFROM:-0400
TZOFFSETTO:-0500
TZNAME:EST
DTSTART:20191103T060000
END:STANDARD
END:VTIMEZONE
BEGIN:VEVENT
DTSTART;VALUE=DATE:20190606
DTEND;VALUE=DATE:20190607
DTSTAMP:20210405T063049
CREATED:20190604T143106Z
LAST-MODIFIED:20190604T143106Z
UID:163611-1559779200-1559865599@www.patriotguard.org
SUMMARY:Lawrence C. Green
DESCRIPTION:Honor Mission\nLawrence C. Green\, Retired\nUSA – Vietnam\nDallas\, Texas – 06-06-19\n\n\n \n\nABOUT THE MISSION: \nLawrence C. Green honorably served in the United States Army for 22 years during Korea and Vietnam. Awards include the Korean Service Medal\, the UN Service Medal\, the National Defense Service Medal\, the Good Conduct Medal\, the Expert Rifle (M-1)\, the Sharpshooter Badge (M-1)\, the Sharpshooter Badge (30 cal. Carbine)\, the Vietnam Service Medal\, the Republic of Vietnam Campaign\, the Bronze Star w/2 OLC\, and the Army Commendation Medal w/3 OLC.\n\n\nPRIMARY STAGING DETAILS: 06-06-19 \nStaging Time: 12:30 pm\n \nDFW National Cemetery\n2000 Mountain Creek Pkwy\nDallas\, Texas 75211\n\n\nRide Captain: \nJohn Blase\nblase02@sbcglobal.net\n(972) 467-7527\n\n\nSpecial Instructions: \nBriefing Time: 12:45 PM\nIn Position/KSU Time: 1:00 PM\nStarting Time: 1:15 PM\nAt the briefing\, honor bikes will be selected. When directed\, they will move to lane 2 and all other riders will go to the assigned shelter and wait for the procession to arrive. After the service ends\, at the RCs discretion\, flags will be returned to storage\, riders debriefed and dismissed.\n\nFlags & Water:\nFlags will be provided\nIf you have large bike flags\, please bring them.\nWater WILL NOT be provided\, please bring your own.\n\n\n\nSubmitted By: Dan Mathys \nPosition: Texas Ride Captain \n\nNote: You do not have to own/ride a motorcycle or be a veteran to join\, and membership is Free. The only requirement is RESPECT! To subscribe to receive mission notices\, log into the National Site and click on the Members tab at the top. Select the Subscribe to PGR Missions option.\n Print This Page
URL:https://www.patriotguard.org/mission/lawrence-c-green/
CATEGORIES:Honor Mission
END:VEVENT
END:VCALENDAR