BEGIN:VCALENDAR
VERSION:2.0
PRODID:-//Patriot Guard Riders - ECPv5.6.0//NONSGML v1.0//EN
CALSCALE:GREGORIAN
METHOD:PUBLISH
X-WR-CALNAME:Patriot Guard Riders
X-ORIGINAL-URL:https://www.patriotguard.org
X-WR-CALDESC:Events for Patriot Guard Riders
BEGIN:VTIMEZONE
TZID:America/New_York
BEGIN:DAYLIGHT
TZOFFSETFROM:-0500
TZOFFSETTO:-0400
TZNAME:EDT
DTSTART:20160313T070000
END:DAYLIGHT
BEGIN:STANDARD
TZOFFSETFROM:-0400
TZOFFSETTO:-0500
TZNAME:EST
DTSTART:20161106T060000
END:STANDARD
END:VTIMEZONE
BEGIN:VEVENT
DTSTART;TZID=America/New_York:20160706T090000
DTEND;TZID=America/New_York:20160706T110000
DTSTAMP:20210512T221446
CREATED:20160706T130000Z
LAST-MODIFIED:20191201T144617Z
UID:410852-1467795600-1467802800@www.patriotguard.org
SUMMARY:Lawrence Bohlen
DESCRIPTION:SSgt Lawrence Bohlen\, US Army\, 6 July\, 2016\, Coolidge\, AZ 7:45 AM \nThe family of Lawrence Bohlen has asked the PGR to stand a flag line in honor of his service and we will proudly do that. \nLawrence enlisted in the US Army on 20 August\, 1945 and served until 24 June\, 1947. He served as a Company Clerk and Bugler. \nAfter leaving the service he started a construction company\, Bowlen Brothers\, with his brother in Rudd\, Iowa\, then moved to Coolidge\, AZ in 1982 and started a general construction company. \nHe was a member of the American Legion\, Masons\, Rotary Club\, Kiwanis and very active in his church. \nHe is survived by his wife of 68 years\, daughter and grandson.\n\nStaging Time:   0745 hrs\n\nAmerican Legion Post 54\n408 N Main St\nCoolidge\, AZ 85128 \nEast on Northern off SR 287 for 3 blocks. On the N/W corner. \nStaging Zip Code:    85128\n\nBriefing Time:    0815 hrs\n\nFlag line in place for the viewing from 0825 until 0930. \nServices will start at 0930 and last for about an hour. After services we will do a non road guard escort to the funeral home with Lawrence and family. \nRide Captain:   Bob Hatch\, 360-921-3057\, bobhatch426@gmail.com\n\nFlag Support Vehicle Person:   To Be Determined \nRoad Guard Escort Requested    no \nDue to Arizona Weather\, please hydrate the day before and the day of the mission.
URL:https://www.patriotguard.org/mission/lawrence-bohlen/
CATEGORIES:Archive
END:VEVENT
END:VCALENDAR