BEGIN:VCALENDAR
VERSION:2.0
PRODID:-//Patriot Guard Riders - ECPv5.3.2.1//NONSGML v1.0//EN
CALSCALE:GREGORIAN
METHOD:PUBLISH
X-WR-CALNAME:Patriot Guard Riders
X-ORIGINAL-URL:https://www.patriotguard.org
X-WR-CALDESC:Events for Patriot Guard Riders
BEGIN:VTIMEZONE
TZID:America/New_York
BEGIN:DAYLIGHT
TZOFFSETFROM:-0500
TZOFFSETTO:-0400
TZNAME:EDT
DTSTART:20180311T070000
END:DAYLIGHT
BEGIN:STANDARD
TZOFFSETFROM:-0400
TZOFFSETTO:-0500
TZNAME:EST
DTSTART:20181104T060000
END:STANDARD
END:VTIMEZONE
BEGIN:VEVENT
DTSTART;TZID=America/New_York:20180505T163000
DTEND;TZID=America/New_York:20180505T183000
DTSTAMP:20210403T100654
CREATED:20180505T203000Z
LAST-MODIFIED:20200714T110502Z
UID:333441-1525537800-1525545000@www.patriotguard.org
SUMMARY:Law Enforcement Appreciation Banquet
DESCRIPTION:HOTH Mission\nLaw Enforcement Appreciation Banquet\nAlamogordo\, New Mexico – 05 May 2018\n\n\nABOUT THE MISSION: \nThe PGR has been asked to provide a flag line for the opening of the Law Enforcement Appreciation Banquet again this year. We will provide a flag line while the guests are arriving and then breakdown once the event starts.\n\nPRIMARY STAGING DETAILS: 05 May 2018\nPrimary Staging Time: 4:30 pm \nTaco Bell/Old Golden Corral Parking Lot\n261 Panorama Blvd\nAlamogordo\, New Mexico – 88310\nRide Captain: \nJim “Deacon Jim” Ernst\njimernst@q.com\n(575) 430-3904\nSpecial Instructions:\n \nKSU at 4:45 pm\nFlag line 5:00 pm to 6:00 pm\nFlags & Water: \nFlags Will Be Provided\nIf you have large bike flags\, please bring them.\nWater will be provided.\n  \n\nSubmitted By: Richard Merrick\nPosition: Ride Captain\n \n\nNote:\nYou do not have to own/ride a motorcycle or be a Veteran to join and membership is Free. The only requirement is RESPECT! To join\, simply go to www.PatriotGuard.org and click on Register. Membership is Free. \nTo subscribe to receive mission notices\, log into the National Site and click on the Mission Tab at the top. Select the Subscribe to Missions option.
URL:https://www.patriotguard.org/mission/law-enforcement-appreciation-banquet-2/
CATEGORIES:HOTH Mission
END:VEVENT
END:VCALENDAR