BEGIN:VCALENDAR
VERSION:2.0
PRODID:-//Patriot Guard Riders - ECPv5.3.2.1//NONSGML v1.0//EN
CALSCALE:GREGORIAN
METHOD:PUBLISH
X-WR-CALNAME:Patriot Guard Riders
X-ORIGINAL-URL:https://www.patriotguard.org
X-WR-CALDESC:Events for Patriot Guard Riders
BEGIN:VTIMEZONE
TZID:America/New_York
BEGIN:DAYLIGHT
TZOFFSETFROM:-0500
TZOFFSETTO:-0400
TZNAME:EDT
DTSTART:20180311T070000
END:DAYLIGHT
BEGIN:STANDARD
TZOFFSETFROM:-0400
TZOFFSETTO:-0500
TZNAME:EST
DTSTART:20181104T060000
END:STANDARD
END:VTIMEZONE
BEGIN:VEVENT
DTSTART;TZID=America/New_York:20180420T190000
DTEND;TZID=America/New_York:20180420T210000
DTSTAMP:20210403T092841
CREATED:20180420T230000Z
LAST-MODIFIED:20201222T171912Z
UID:341555-1524250800-1524258000@www.patriotguard.org
SUMMARY:Last Frontier Honor Flight of Alaska
DESCRIPTION:HOTH Mission\nLast Frontier Honor Flight of Alaska\nPortland\, Oregon – 20 Apr 2018\n\n\nABOUT THE MISSION: \nLadies and gentlemen of the Patriot Guard Riders\, we have been invited to help welcome home Last Frontier Honor Flight of Alaska. There are 23 Veterans and 27 Support staff that just spent a whirlwind tour of Washington\, DC and our National Memorials located there. Please join us as it is always a pleasure to help welcome these Veterans home from this special journey and once in a lifetime experience.\nPRIMARY STAGING DETAILS: 20 Apr 2018\nPrimary Staging Time: 7:00 P.M. \nPDX – We meet at the North Escalator under the large American Flag. If you are there before Staging meet over by Beaches\nPortland\, Oregon –\nRide Captain: \nNick Kinler\nnickkinler@gmail.com\nSpecial Instructions: \nBriefing: 7:30 pm\nFlag line Set: as neededWe will send a few folks back to the gate. If you would like to do so\, please arrive early\, have proper photo ID\, and plan and dress accordingly\nFlags & Water: \nFlags Will NOT Be Provided\, Please Bring Your Own.\nLarge Bike Flags will NOT be needed.\nWater WILL NOT be provided\, please bring your own.\n\n\nSubmitted By: John Hanan II\nPosition: State Captain \n\nNote:\nYou do not have to own/ride a motorcycle or be a Veteran to join and membership is Free. The only requirement is RESPECT! To join\, simply go to www.PatriotGuard.org and click on Register. Membership is Free. \nTo subscribe to receive mission notices\, log into the National Site and click on the Mission Tab at the top. Select the Subscribe to Missions option.
URL:https://www.patriotguard.org/mission/last-frontier-honor-flight-of-alaska-3/
CATEGORIES:HOTH Mission
END:VEVENT
END:VCALENDAR