BEGIN:VCALENDAR
VERSION:2.0
PRODID:-//Patriot Guard Riders - ECPv5.3.2.1//NONSGML v1.0//EN
CALSCALE:GREGORIAN
METHOD:PUBLISH
X-WR-CALNAME:Patriot Guard Riders
X-ORIGINAL-URL:https://www.patriotguard.org
X-WR-CALDESC:Events for Patriot Guard Riders
BEGIN:VTIMEZONE
TZID:America/New_York
BEGIN:DAYLIGHT
TZOFFSETFROM:-0500
TZOFFSETTO:-0400
TZNAME:EDT
DTSTART:20190310T070000
END:DAYLIGHT
BEGIN:STANDARD
TZOFFSETFROM:-0400
TZOFFSETTO:-0500
TZNAME:EST
DTSTART:20191103T060000
END:STANDARD
END:VTIMEZONE
BEGIN:VEVENT
DTSTART;VALUE=DATE:20190727
DTEND;VALUE=DATE:20190728
DTSTAMP:20210403T201229
CREATED:20190726T042010Z
LAST-MODIFIED:20190726T042010Z
UID:168822-1564185600-1564271999@www.patriotguard.org
SUMMARY:Larry W. Harman
DESCRIPTION:Honor Mission\nLarry W. Harman\, Veteran\nUSN –\nCovington\, Tennessee – 07-27-19\n\n\n\nABOUT THE MISSION: \nOur great State of Tennessee and the people of Covington\, TN have lost another Veteran Hero. Petty Officer second class Larry W. Harmanl\, 57\, passed away July 24th\, 2019. E5 Larry Harman proudly served our country in the United States Navy for six years from March 11\, 1980 to March 10\, 1996. The Patriot Guard Riders have been invited to honor AT2 Larry Harman and the services rendered to our great nation and we will be honored to do so.\n\n\nPRIMARY STAGING DETAILS: 07-27-19 \nStaging Time: 12:30 PM\n \nMaley-Yarbrough Funeral Home\n1701 Hwy 51 S.\nCovington\, Tennessee 38019\nMap\n\n\nRide Captain: \nRon Paich\n901-619-8774\npostal456@gmail.com\n\n\nSpecial Instructions: \nPatriot Guard Riders will provide an Honor Flag Line for visitation starting at 1:00 PM until 3:00 PM.\nThere will be no escort for this mission.\n\n\nFlags & Water:\nFlags will be provided\nLarge Bike Flags will NOT be needed.\nWater WILL NOT be provided\, please bring your own.\n\n\n\nSubmitted By: Ron Paich \nPosition: Tennessee Ride Captain \n\nNote: You do not have to own/ride a motorcycle or be a veteran to join\, and membership is Free. The only requirement is RESPECT! To subscribe to receive mission notices\, log into the National Site and click on the Members tab at the top. Select the Subscribe to PGR Missions option.\n Print This Page
URL:https://www.patriotguard.org/mission/larry-w-harman/
CATEGORIES:Honor Mission
END:VEVENT
END:VCALENDAR