BEGIN:VCALENDAR
VERSION:2.0
PRODID:-//Patriot Guard Riders - ECPv5.6.0//NONSGML v1.0//EN
CALSCALE:GREGORIAN
METHOD:PUBLISH
X-WR-CALNAME:Patriot Guard Riders
X-ORIGINAL-URL:https://www.patriotguard.org
X-WR-CALDESC:Events for Patriot Guard Riders
BEGIN:VTIMEZONE
TZID:America/New_York
BEGIN:DAYLIGHT
TZOFFSETFROM:-0500
TZOFFSETTO:-0400
TZNAME:EDT
DTSTART:20160313T070000
END:DAYLIGHT
BEGIN:STANDARD
TZOFFSETFROM:-0400
TZOFFSETTO:-0500
TZNAME:EST
DTSTART:20161106T060000
END:STANDARD
END:VTIMEZONE
BEGIN:VEVENT
DTSTART;TZID=America/New_York:20160818T090000
DTEND;TZID=America/New_York:20160818T110000
DTSTAMP:20210512T035009
CREATED:20160818T130000Z
LAST-MODIFIED:20191201T143535Z
UID:409865-1471510800-1471518000@www.patriotguard.org
SUMMARY:Larry Villarreal
DESCRIPTION:Patriot’s Name:    Larry Villarreal\nMilitary Branch:    United States Marine Corps\nClassification:    Veteran\nAdditional Military Info:    3rd Bn\, 5th Marines\, Camp Pendleton\, CA. \nLink To Obituary:\nhttp://www.hughesfunerals.com/memsol.cgi?user_id=1840549 \nMission Ride Captain:    Jeffrey Wike (In Training)\, asm757@att.net\, (817) 301-4293\nRide Captain #2:    Rusty McNab\, rustymcnab@sbcglobal.net\, (817) 228-7845 \nMission Summary:    The family of Mr. Villarreal has asked the Patriot Guard Riders to stand a flag line at his funeral service\, accompany him on one last ride and again stand a flag line at his interment service. \nPART 1:    Flag Line at funeral service\, followed by a procession to DFW\nNational Cemetery.\nMission Date:    Aug 18\, 2016 – Thursday\nStaging Time:    09:00\nBriefing Time:    09:15\nIn Position Time Or KSU:    09:30\nService Start Time:    10:00 \nDetails Of Part 1: After the Mission Brief and prior to his funeral service\, the riders will establish the flag line and prepare to receive family and friends of Mr. Villarreal. \nWhen the service begins\, riders will return the flags to the support vehicle\, receive the safety briefing\, and prepare to accompany the procession to DFW National Cemetery for interment. \nRiders not participating in the procession may proceed to the cemetery and assist with preparing the flag line. \nStaging Address:\nHughes Funeral Home\n400 E. Jefferson\nDallas\, Texas 75203 \nPART 2:    Flag Line at interment service\, DFW National Cemetery.\nMission Date:    Aug 18\, 2016 – Thursday\nStaging Time:    10:45\nBriefing Time:    11:00\nIn Position Time Or KSU:    11:15\nService Start Time:    11:30 \nDetails Of Part 2: Staging will be at the DFW National Cemetery Visitor’s Center. A briefing will be held\, honor bikes will be selected\, and then riders will proceed to the appropriate committal shelter\, set the flags\, and await the arrival of Mr. Villarreal\, his family\, and friends. After the service\, flags will be furled\, riders briefed and dismissed. \nStaging Address:\nDFW National Cemetery\n2000 Mountain Creek Parkway\nDallas\, Texas 75211
URL:https://www.patriotguard.org/mission/larry-villarreal/
CATEGORIES:Archive
END:VEVENT
END:VCALENDAR