BEGIN:VCALENDAR
VERSION:2.0
PRODID:-//Patriot Guard Riders - ECPv5.3.2.1//NONSGML v1.0//EN
CALSCALE:GREGORIAN
METHOD:PUBLISH
X-WR-CALNAME:Patriot Guard Riders
X-ORIGINAL-URL:https://www.patriotguard.org
X-WR-CALDESC:Events for Patriot Guard Riders
BEGIN:VTIMEZONE
TZID:America/New_York
BEGIN:DAYLIGHT
TZOFFSETFROM:-0500
TZOFFSETTO:-0400
TZNAME:EDT
DTSTART:20190310T070000
END:DAYLIGHT
BEGIN:STANDARD
TZOFFSETFROM:-0400
TZOFFSETTO:-0500
TZNAME:EST
DTSTART:20191103T060000
END:STANDARD
END:VTIMEZONE
BEGIN:VEVENT
DTSTART;VALUE=DATE:20190828
DTEND;VALUE=DATE:20190829
DTSTAMP:20210402T082016
CREATED:20190827T231547Z
LAST-MODIFIED:20190827T231547Z
UID:172107-1566950400-1567036799@www.patriotguard.org
SUMMARY:Larry Rex Ray
DESCRIPTION:Honor Mission\nLarry Rex Ray\, Veteran\nUSN\, USNR –\nSpringfield\, Missouri – 08-28-19\n\n\n\nABOUT THE MISSION: \nThe family of USN\, Boiler Technician Fireman (BTFN)\, Larry Rex Ray has honored the Patriot Guard Riders with a request to provide an escort from the Greenlawn East Funeral Home to the Hazelwood Cemetery and stand a flag line at his committal service where full military honors will be rendered. Hero Ray attended Oak Grove Schools then enlisted in the United States Navy in August 1954 and proudly and honorably served our country in active duty as a Boiler Technician Fireman assigned to the USS Renville until December 1957. His active duty included nearly 3 years of foreign service. He then was moved to Naval Reserve status until August 1962. Following his naval service he became an accomplished auto mechanic and later had his own business as Rex Ray Service Centers. He also enjoyed buying and selling antiques\, managing several rental properties\, and even did some brush hogging and snow removal.\n\n\nPRIMARY STAGING DETAILS: 08-28-19 \nStaging Time: 1:15 PM\n \nGreenlawn East Funeral Home\n3540 E. Seminole St.\nSpringfield\, Missouri 65803\n\n\nRide Captain: \nSteve Simko\n(210) 621-8623\ncsdsimko@sbcglobal.net\n\n\nSpecial Instructions: \nSTAGE: 1:15 pm\nBRIEF:  1:30 pm (Flag line to follow)\nSERVICE: 2:00 pm\nFINAL SALUTE: 2:45 pm\nESCORT: 3:00 pm\nGRAVESIDE: 3:15 pm Hazelwood Cemetery\, 1642 E. Seminole St. Springfield\, MO 65804.\nWEATHER FORECAST: 81˚ and 0% chance of precipitation\, wind 4 mph\n\n\nFlags & Water:\nFlags will be provided\nIf you have large bike flags\, please bring them.\nWater WILL NOT be provided\, please bring your own.\n\n\n\nSubmitted By: steve simko \nPosition: Missouri Ride Captain \n\nNote: You do not have to own/ride a motorcycle or be a veteran to join\, and membership is Free. The only requirement is RESPECT! To subscribe to receive mission notices\, log into the National Site and click on the Members tab at the top. Select the Subscribe to PGR Missions option.\n Print This Page
URL:https://www.patriotguard.org/mission/larry-rex-ray/
CATEGORIES:Honor Mission
END:VEVENT
END:VCALENDAR