BEGIN:VCALENDAR
VERSION:2.0
PRODID:-//Patriot Guard Riders - ECPv5.3.2.1//NONSGML v1.0//EN
CALSCALE:GREGORIAN
METHOD:PUBLISH
X-WR-CALNAME:Patriot Guard Riders
X-ORIGINAL-URL:https://www.patriotguard.org
X-WR-CALDESC:Events for Patriot Guard Riders
BEGIN:VTIMEZONE
TZID:America/New_York
BEGIN:DAYLIGHT
TZOFFSETFROM:-0500
TZOFFSETTO:-0400
TZNAME:EDT
DTSTART:20190310T070000
END:DAYLIGHT
BEGIN:STANDARD
TZOFFSETFROM:-0400
TZOFFSETTO:-0500
TZNAME:EST
DTSTART:20191103T060000
END:STANDARD
END:VTIMEZONE
BEGIN:VEVENT
DTSTART;VALUE=DATE:20190818
DTEND;VALUE=DATE:20190819
DTSTAMP:20210402T140845
CREATED:20190816T182812Z
LAST-MODIFIED:20190816T182812Z
UID:171080-1566086400-1566172799@www.patriotguard.org
SUMMARY:Larry Ray Ford
DESCRIPTION:Honor Mission\nLarry Ray Ford \, Veteran\nUSN\nHampton\, Virginia – 08-18-19\n\n\n\n\nABOUT THE MISSION: \nThe Patriot Guard has been graciously invited by the family and friends of BM3 Larry Ford to stand in honor of his service to our Country . BM3 Ford served his country honorably from 1964 -1968 in the Navy and served aboard the troop transport ship USS CHILTON APA-38. Mr. Ford was an active member of American Legion Post 25 for several years. After his Naval service Mr. Ford worked for Newport News Shipyard from the early 1970’s to early 2000 as a power plant operator and eventually became the departments supervisor. He is survived by his devoted wife and 6 loving children.\n\n\nPRIMARY STAGING DETAILS: 08-18-19 \nStaging Time: 1045  \nParklawn Funeral Home\,\n2551 N Armistead Avenue\nHampton\, Virginia 23666\n\n\nRide Captain: \nMike “Handlebar” Nugent\,\n757-327-8281\n\, xdvr1@verizon.net\n\n\nSpecial Instructions: \n This will be a flag line with honors at both the funeral home and at his final resting place. Expect this mission to last 4 hours.\n  All hands are invited to join the family for Mr. Ford for his celebration of life at American Legion Post 25 for food and refreshments.\n\nFlags & Water:\nFlags will be provided\nIf you have large bike flags\, please bring them.\nWater WILL NOT be provided\, please bring your own.\n\n\n\n\nSubmitted By: Mike Nugent \nPosition: Virginia Ride Captain \n\nNote: You do not have to own/ride a motorcycle or be a veteran to join\, and membership is Free. The only requirement is RESPECT! To subscribe to receive mission notices\, log into the National Site and click on the Members tab at the top. Select the Subscribe to PGR Missions option.\n Print This Page
URL:https://www.patriotguard.org/mission/larry-ray-ford/
CATEGORIES:Honor Mission
END:VEVENT
END:VCALENDAR