BEGIN:VCALENDAR
VERSION:2.0
PRODID:-//Patriot Guard Riders - ECPv5.3.2.1//NONSGML v1.0//EN
CALSCALE:GREGORIAN
METHOD:PUBLISH
X-WR-CALNAME:Patriot Guard Riders
X-ORIGINAL-URL:https://www.patriotguard.org
X-WR-CALDESC:Events for Patriot Guard Riders
BEGIN:VTIMEZONE
TZID:America/New_York
BEGIN:DAYLIGHT
TZOFFSETFROM:-0500
TZOFFSETTO:-0400
TZNAME:EDT
DTSTART:20190310T070000
END:DAYLIGHT
BEGIN:STANDARD
TZOFFSETFROM:-0400
TZOFFSETTO:-0500
TZNAME:EST
DTSTART:20191103T060000
END:STANDARD
END:VTIMEZONE
BEGIN:VEVENT
DTSTART;VALUE=DATE:20190803
DTEND;VALUE=DATE:20190804
DTSTAMP:20210402T152216
CREATED:20190802T023257Z
LAST-MODIFIED:20190802T023257Z
UID:169224-1564790400-1564876799@www.patriotguard.org
SUMMARY:Larry McCool Olglesby
DESCRIPTION:Honor Mission\nLarry McCool Olglesby\, Veteran\nUSMC\nTrafford\, Alabama – 08-03-19\n\n\n \n\nABOUT THE MISSION: \nIt is with heavy heart that I must inform you that America has lost another True American Hero. The family of Larry McCool Olglesby has requested the Patriot Guard to Stand a flag line and ride in honor of their loved one. Those we lose don’t go away. They walk beside us every day unseen\, unheard\, but always near so loved\, so missed\, so very dear. May the Lord bless and keep these true heroes.\n\n\nPRIMARY STAGING DETAILS: 08-03-19 \nStaging Time: 12:15 pm\n \nMARATHON\n25111 AL Highway 79\nTrafford\, AL 35172\nMap\n\n\nRide Captain: \nHarvey Nabors\n205-915-5128\nhnabors@att.net\n\n\nSpecial Instructions: \nStage at 12:15 pm for 1:00 pm escort\n\nFlags & Water:\nFlags will be provided\nIf you have large bike flags\, please bring them.\nWater WILL NOT be provided\, please bring your own.\n\nSTAGING #2 DETAILS: 08-03-19 \nStaging Time: 1:00 pm\n \nWestside Church\n205 Dans StWarrior\nTrafford\, Alabama 35172\nMap\n\n\nRide Captain: \nHarvey Nabors\n205-915-5128\nhnabors@att.net\n\n\nSpecial Instructions: \nStage at 1:00 pm for arrival of escort\n\nFlags & Water:\nFlags will be provided\nIf you have large bike flags\, please bring them.\nWater WILL NOT be provided\, please bring your own.\n\n\n\nSubmitted By: Russell Dean Padgett \nPosition: Alabama Ride Captain \n\nNote: You do not have to own/ride a motorcycle or be a veteran to join\, and membership is Free. The only requirement is RESPECT! To subscribe to receive mission notices\, log into the National Site and click on the Members tab at the top. Select the Subscribe to PGR Missions option.\n Print This Page
URL:https://www.patriotguard.org/mission/larry-mccool-olglesby/
CATEGORIES:Honor Mission
END:VEVENT
END:VCALENDAR