BEGIN:VCALENDAR
VERSION:2.0
PRODID:-//Patriot Guard Riders - ECPv5.3.2.1//NONSGML v1.0//EN
CALSCALE:GREGORIAN
METHOD:PUBLISH
X-WR-CALNAME:Patriot Guard Riders
X-ORIGINAL-URL:https://www.patriotguard.org
X-WR-CALDESC:Events for Patriot Guard Riders
BEGIN:VTIMEZONE
TZID:America/New_York
BEGIN:DAYLIGHT
TZOFFSETFROM:-0500
TZOFFSETTO:-0400
TZNAME:EDT
DTSTART:20170312T070000
END:DAYLIGHT
BEGIN:STANDARD
TZOFFSETFROM:-0400
TZOFFSETTO:-0500
TZNAME:EST
DTSTART:20171105T060000
END:STANDARD
END:VTIMEZONE
BEGIN:VEVENT
DTSTART;TZID=America/New_York:20171026T110000
DTEND;TZID=America/New_York:20171026T130000
DTSTAMP:20210403T074643
CREATED:20171026T150000Z
LAST-MODIFIED:20191201T035145Z
UID:346647-1509015600-1509022800@www.patriotguard.org
SUMMARY:Larry Lee Simpson\, Veteran\, USAF
DESCRIPTION:LARRY LEE SIMPSON\, Veteran\nUSAF\nFort Worth\, Texas – 26 Oct 2017\n\n\n[HR][/HR]\nABOUT THE MISSION: \n\nThe family of Staff Sgt. Larry Lee Simpson has asked the North Texas Patriot Guard Riders to honor his service to our country by standing a flag line at his funeral service.\n\n\nPRIMARY STAGING DETAILS: 26 Oct 2017\nPrimary Staging Time: 11:00 A.M. \n\nSerenity Funerals & Cremations\n4725 Vermont Ave\nFort Worth\, Texas – 76115\nhttps://goo.gl/maps/JGNCKDGr5uP2\n\n\nRide Captain: \n\nBrian Liberty\nLabliberty@yahoo.com\n(979) 702-9097\n\n\nSpecial Instructions: \n\nThe PGR will stage at the Serenity Funerals & Cremations of Fort Worth. Flags will be set\, riders will be given the mission brief and prepare to receive the family and friends of Staff Sgt. Simpson. After the service\, flags will be furled\, returned to the support vehicle\, then the riders will be debriefed and dismissed.\n\n\nFlags & Water: \n\nFlags Will Be Provided\nLarge Bike Flags will NOT be needed.\nWater will be provided.\n\n\nSubmitted By: Ted Waldron\nPosition: Ride Captain\n[HR][/HR]Note:\nYou do not have to own/ride a motorcycle or be a Veteran to join and membership is Free. The only requirement is RESPECT! To join\, simply go to www.PatriotGuard.org and click on Register. Membership is Free. \nTo subscribe to receive mission notices\, log into the National Site and click on the Mission Tab at the top. Select the Subscribe to Missionsoption.
URL:https://www.patriotguard.org/mission/larry-lee-simpson-veteran-usaf/
END:VEVENT
END:VCALENDAR