BEGIN:VCALENDAR
VERSION:2.0
PRODID:-//Patriot Guard Riders - ECPv5.6.0//NONSGML v1.0//EN
CALSCALE:GREGORIAN
METHOD:PUBLISH
X-WR-CALNAME:Patriot Guard Riders
X-ORIGINAL-URL:https://www.patriotguard.org
X-WR-CALDESC:Events for Patriot Guard Riders
BEGIN:VTIMEZONE
TZID:America/New_York
BEGIN:DAYLIGHT
TZOFFSETFROM:-0500
TZOFFSETTO:-0400
TZNAME:EDT
DTSTART:20160313T070000
END:DAYLIGHT
BEGIN:STANDARD
TZOFFSETFROM:-0400
TZOFFSETTO:-0500
TZNAME:EST
DTSTART:20161106T060000
END:STANDARD
END:VTIMEZONE
BEGIN:VEVENT
DTSTART;TZID=America/New_York:20160611T090000
DTEND;TZID=America/New_York:20160611T110000
DTSTAMP:20210513T180824
CREATED:20160611T130000Z
LAST-MODIFIED:20191201T145248Z
UID:411440-1465635600-1465642800@www.patriotguard.org
SUMMARY:Larry J. R. Nunn\, USA
DESCRIPTION:Larry J R Nunn\nUSA\, Vietnam Veteran\nDrexel\, Mo.\n11 Jun 16\n\n\nThe Patriot Guard Riders have been honored\, by the loved ones of  Larry J R Nunn\, to  stand flag line in silent respect & honor of their Hero for his  service at Mullinax Chapel Drexel\, Mo\, & escort to his final resting  place at Sharon Cemetery. Mr Nunn was born 5 May 1947 in Portland\,  Indiana\, & entered into eternal rest on 4 Jun 16 in Lee’s Summit\,  Mo. \nHero Nunn joined the U.S. Army & served his country  honorably in Vietnam\, where among other medals\, he was awarded the Bronze  Star & Purple Heart Medal for injuries sustained fighting for  America’s freedom. After military service Hero Nunn worked for the  F.A.A. as an Air Traffic Controller. \nWe will stage at 0830 at the  Mullinax Funeral Home\, 136 E. Main\, Drexel Mo. for briefing at 0845  & flag line at 0900-1030 for visitation\, with service time at 1030\,  followed by escort to Sharon Cemetery for committal service with  military honors.\n\nWeather\, Mid 90s Hydrate Hydrate water furnished\n\nNote: Hot weather has suddenly struck. Please stay hydrated \nRCIC\nGary (Boots) Hoover\nboots39216@gmail.com \nFlag Support\nTom (Grease Monkey) Swarnes
URL:https://www.patriotguard.org/mission/larry-j-r-nunn-usa/
CATEGORIES:Archive
END:VEVENT
END:VCALENDAR