BEGIN:VCALENDAR
VERSION:2.0
PRODID:-//Patriot Guard Riders - ECPv5.3.2.1//NONSGML v1.0//EN
CALSCALE:GREGORIAN
METHOD:PUBLISH
X-WR-CALNAME:Patriot Guard Riders
X-ORIGINAL-URL:https://www.patriotguard.org
X-WR-CALDESC:Events for Patriot Guard Riders
BEGIN:VTIMEZONE
TZID:America/New_York
BEGIN:DAYLIGHT
TZOFFSETFROM:-0500
TZOFFSETTO:-0400
TZNAME:EDT
DTSTART:20190310T070000
END:DAYLIGHT
BEGIN:STANDARD
TZOFFSETFROM:-0400
TZOFFSETTO:-0500
TZNAME:EST
DTSTART:20191103T060000
END:STANDARD
END:VTIMEZONE
BEGIN:VEVENT
DTSTART;VALUE=DATE:20190731
DTEND;VALUE=DATE:20190801
DTSTAMP:20210402T094645
CREATED:20190729T002635Z
LAST-MODIFIED:20190729T002635Z
UID:169027-1564531200-1564617599@www.patriotguard.org
SUMMARY:Larry Fiene
DESCRIPTION:Honor Mission\nLarry Fiene\, Veteran\nUSA – Vietnam\nHigginsville \, Missouri – 07-31-19\n\n\n\n\nABOUT THE MISSION: \nThe family of US Army Hero Larry Fiene has requested the Patriot Guard to escort him home to his final resting place at Missouri Veterans Cemetery in Higginsville for his graveside service.  Hero Fiene served proudly in Vietnam for 2 years obtaining the rank of Corporal.\n\n\nPRIMARY STAGING DETAILS: 07-31-19 \nStaging Time: 1:15 pm\n \nKaiser-Wiegers Funeral Home\n1701 N Main St (Corner of Main St. & 17th St.)\nHigginsville \, Missouri 64037\n\n\nRide Captain: \nJim Bailey\nph- 816-797-9577\n\n\nSpecial Instructions: \n**SHORT ESCORT ONLY**\nStaging: 1:15 PM\nEscort:  1:45 PM  To MO Veteran’s Cemetery\, Higginsville\nInterment:  2:00 PM  (Funeral home is at the corner of Main St & 17th St)\n\nFlags & Water:\nFlags will not be provided\nIf you have large bike flags\, please bring them.\nWater WILL NOT be provided\, please bring your own.\n\n\n\n\nSubmitted By: Jim Bailey \nPosition: Missouri Ride Captain \n\nNote: You do not have to own/ride a motorcycle or be a veteran to join\, and membership is Free. The only requirement is RESPECT! To subscribe to receive mission notices\, log into the National Site and click on the Members tab at the top. Select the Subscribe to PGR Missions option.\n Print This Page
URL:https://www.patriotguard.org/mission/larry-fiene/
CATEGORIES:Honor Mission
END:VEVENT
END:VCALENDAR