BEGIN:VCALENDAR
VERSION:2.0
PRODID:-//Patriot Guard Riders - ECPv5.3.2.1//NONSGML v1.0//EN
CALSCALE:GREGORIAN
METHOD:PUBLISH
X-WR-CALNAME:Patriot Guard Riders
X-ORIGINAL-URL:https://www.patriotguard.org
X-WR-CALDESC:Events for Patriot Guard Riders
BEGIN:VTIMEZONE
TZID:America/New_York
BEGIN:DAYLIGHT
TZOFFSETFROM:-0500
TZOFFSETTO:-0400
TZNAME:EDT
DTSTART:20190310T070000
END:DAYLIGHT
BEGIN:STANDARD
TZOFFSETFROM:-0400
TZOFFSETTO:-0500
TZNAME:EST
DTSTART:20191103T060000
END:STANDARD
END:VTIMEZONE
BEGIN:VEVENT
DTSTART;VALUE=DATE:20190722
DTEND;VALUE=DATE:20190723
DTSTAMP:20210403T175806
CREATED:20190720T005057Z
LAST-MODIFIED:20190720T005057Z
UID:168310-1563753600-1563839999@www.patriotguard.org
SUMMARY:Larry Erwin Sr.
DESCRIPTION:Honor Mission\nLarry Erwin Sr.\, Retired\nUSA – Vietnam\nNacogdoches\, Texas – 07-22-19\n\n\n\nABOUT THE MISSION: \nMr Erwin was born in Amarillo\, TX. He attended Palo Duro High School where he met his wife of 58 years in biology class. Mr Erwin joined the United States Army at age 17 where he served in the Vietnam conflict. He retired with numerous medals and accommodations after 20 years of Honorable Service to our great nation. He proudly held lifetime memberships with Vietnam Veterans of America\, Veterans of Foreign Wars and Disabled American Veterans of which he was forever dedicated to.\nObituary\n\n\nPRIMARY STAGING DETAILS: 07-22-19 \nStaging Time: 08:15 AM\n \nLairds Funeral Home\n2116 South St\nNacogdoches\, Texas 75964\nMap\n\n\nRide Captain: \nCLIFF JORDAN\nPhone: 936-687-4201\nEmail Address: cwjordan85@yahoo.com\n\n\nSpecial Instructions: \nStage: 8:15 am – 8:45 am\nRiders meeting: 8:45 am.\nInternment will be at Harmony Cemetery following the service.\nDirections to the cemetery will be given by the Ride Captain.\nBIG FLAG BIKES REQUESTED FOR ESCORT.\nPlease remain flexible as to the requirements of the mission. (SEMPER GUMBY)\n\n\nFlags & Water:\nFlags will be provided\nIf you have large bike flags\, please bring them.\nWater will be provided.\n\n\n\nSubmitted By: Michael Eubank \nPosition: Texas Deputy State Captain \n\nNote: You do not have to own/ride a motorcycle or be a veteran to join\, and membership is Free. The only requirement is RESPECT! To subscribe to receive mission notices\, log into the National Site and click on the Members tab at the top. Select the Subscribe to PGR Missions option.\n Print This Page
URL:https://www.patriotguard.org/mission/larry-erwin-sr/
CATEGORIES:Honor Mission
END:VEVENT
END:VCALENDAR