BEGIN:VCALENDAR
VERSION:2.0
PRODID:-//Patriot Guard Riders - ECPv5.3.2.1//NONSGML v1.0//EN
CALSCALE:GREGORIAN
METHOD:PUBLISH
X-WR-CALNAME:Patriot Guard Riders
X-ORIGINAL-URL:https://www.patriotguard.org
X-WR-CALDESC:Events for Patriot Guard Riders
BEGIN:VTIMEZONE
TZID:America/New_York
BEGIN:DAYLIGHT
TZOFFSETFROM:-0500
TZOFFSETTO:-0400
TZNAME:EDT
DTSTART:20170312T070000
END:DAYLIGHT
BEGIN:STANDARD
TZOFFSETFROM:-0400
TZOFFSETTO:-0500
TZNAME:EST
DTSTART:20171105T060000
END:STANDARD
END:VTIMEZONE
BEGIN:VEVENT
DTSTART;TZID=America/New_York:20170927T103000
DTEND;TZID=America/New_York:20170927T123000
DTSTAMP:20210405T182256
CREATED:20170927T143000Z
LAST-MODIFIED:20191201T034141Z
UID:340486-1506508200-1506515400@www.patriotguard.org
SUMMARY:Larry Edwin Perry\, Veteran\, USA
DESCRIPTION:Larry Edwin Perry\, Veteran\nUSA\nFt Gibson\, Oklahoma – 27 Sep 2017\n\n\n[HR][/HR]\nABOUT THE MISSION: \n\n27 Sept 2017 The cremains of Mr & Mrs  Larry Erwin Perry will be interred at FGNC at the request of their 6  adult children. Mr. Perry served in the US Army in the mid 1970’s and  his DD214 was destroyed in a fire. . The US Army will render military  honors to be followed by the PGR presenting 6 plaques and Invocations to  their 6 adult children. American Legion participation is unknown at  this time.\nTHERE WILL BE NO ESCORT\n\n\nPRIMARY STAGING DETAILS:  27 Sep 2017\nPrimary Staging Time: 1130 A.M. \n\nFGNC\n1423 Cemetery Rd\nFt Gibson\, Oklahoma –\n\n\nRide Captain: \n\nMike Smith\nScout74017@gmail.com\n918-639-6192\n\n\nSpecial Instructions: \n\nBriefing 1200 Noon\nFlag line and Respect line 1230\nWeather mid 80’s\n\n\nFlags & Water: \n\nFlags Will Be Provided\nLarge Bike Flags will NOT be needed.\nWater WILL NOT be provided\, please bring your own.\n\n\nSubmitted By: David Priest\nPosition: Ride Captain\n[HR][/HR]Note:\nYou do not have to own/ride a motorcycle or be a Veteran to join and membership is Free. The only requirement is RESPECT! To join\, simply go to www.PatriotGuard.org and click on Register. Membership is Free. \nTo subscribe to receive mission notices\, log into the National Site and click on the Mission Tab at the top. Select the Subscribe to Missions option.
URL:https://www.patriotguard.org/mission/larry-edwin-perry-veteran-usa/
END:VEVENT
END:VCALENDAR