BEGIN:VCALENDAR
VERSION:2.0
PRODID:-//Patriot Guard Riders - ECPv5.6.0//NONSGML v1.0//EN
CALSCALE:GREGORIAN
METHOD:PUBLISH
X-WR-CALNAME:Patriot Guard Riders
X-ORIGINAL-URL:https://www.patriotguard.org
X-WR-CALDESC:Events for Patriot Guard Riders
BEGIN:VTIMEZONE
TZID:America/New_York
BEGIN:DAYLIGHT
TZOFFSETFROM:-0500
TZOFFSETTO:-0400
TZNAME:EDT
DTSTART:20160313T070000
END:DAYLIGHT
BEGIN:STANDARD
TZOFFSETFROM:-0400
TZOFFSETTO:-0500
TZNAME:EST
DTSTART:20161106T060000
END:STANDARD
END:VTIMEZONE
BEGIN:VEVENT
DTSTART;TZID=America/New_York:20160813T090000
DTEND;TZID=America/New_York:20160813T110000
DTSTAMP:20210511T201311
CREATED:20160813T130000Z
LAST-MODIFIED:20191201T143641Z
UID:409966-1471078800-1471086000@www.patriotguard.org
SUMMARY:Larry E. Hamilton
DESCRIPTION:The family of US Air Force Veteran Larry E. Hamilton has asked the Patriot Guard Riders to escort the Hamilton family from their home to Stumpff Funeral Home Chapel\, 1600 SE Washington Blvd\, Bartlesville\, OK and to stand a flag line at his memorial service scheduled for 1530 Hours Saturday\, 13 August 2016.  The American Legion will render Military Honors. \nDate:  Saturday\, 13 August 2016 at 1530 Hours \nStaging:  1400 Hours\nStumpff Funeral Home\n1600 SE Washington Blvd\nBartlesville\, OK \nMandatory Briefing:  1415 Hours\nYou MUST attend the briefing to ride in the escort. \nKSU:  1430 Hours \nFlag Line:  Approximately 1515 Hours \nWeather:  Temperature in the mid 80s and scattered thunderstorms during the mission. \nNote:  At 1430 Hours\, the PGR will ride from the funeral home to Casey’s General Store\, 401 S Osage Ave (corner of Hwy 75 & Durham Rd)\, Dewey\, OK where the Hero’s son will join the procession to the family home. Distance is about 7 miles each way. \nHonorary RCIC:\nClark Donnell \nRCIC:\nRandy ‘Hollywood’ Dixon\nrdixon54@yahoo.com\n918.533.3409
URL:https://www.patriotguard.org/mission/larry-e-hamilton/
CATEGORIES:Archive
END:VEVENT
END:VCALENDAR