BEGIN:VCALENDAR
VERSION:2.0
PRODID:-//Patriot Guard Riders - ECPv5.3.2.1//NONSGML v1.0//EN
CALSCALE:GREGORIAN
METHOD:PUBLISH
X-WR-CALNAME:Patriot Guard Riders
X-ORIGINAL-URL:https://www.patriotguard.org
X-WR-CALDESC:Events for Patriot Guard Riders
BEGIN:VTIMEZONE
TZID:America/New_York
BEGIN:DAYLIGHT
TZOFFSETFROM:-0500
TZOFFSETTO:-0400
TZNAME:EDT
DTSTART:20190310T070000
END:DAYLIGHT
BEGIN:STANDARD
TZOFFSETFROM:-0400
TZOFFSETTO:-0500
TZNAME:EST
DTSTART:20191103T060000
END:STANDARD
END:VTIMEZONE
BEGIN:VEVENT
DTSTART;VALUE=DATE:20190730
DTEND;VALUE=DATE:20190731
DTSTAMP:20210402T133855
CREATED:20190729T004311Z
LAST-MODIFIED:20190729T004311Z
UID:169030-1564444800-1564531199@www.patriotguard.org
SUMMARY:Larry E. Bright
DESCRIPTION:Honor Mission\nLarry E. Bright\, Veteran\nUSA – WWII\nSt. Ann\, Missouri – 07-30-19\n\n\n\n\nABOUT THE MISSION: \nOur country has lost another World War II hero.  The Patriot Guard Riders have been called on to honor WWII Hero Larry E. Bright (95).  He served in the United States Army from 1943 – 1945 as a truck driver.  He saw action in Ardennes\, Rhineland\, Central Europe\, Normandy and Northern France. For his actions he received six (6) Bronze Stars.  He was awarded the following: American Theatre Campaign Ribbon; European – African Middle Eastern Theatre Ribbon; Victory Ribbon; 3 each overseas bars and the Lapel Button for Honorable Service.  Hero Bright is a true patriot who stood for the freedoms that we have today.  It will be our privilege to honor this WWII Hero with a flag line of honor and respect at the funeral home and during his military honors at Laurel Hill Memorial Gardens.\n\n\nPRIMARY STAGING DETAILS: 07-30-19 \nStaging Time: 11:45 am  \nAlexander White-Mullen Funeral Home\n11101 St. Charles Rock Rd.\nSt. Ann\, Missouri 63074\n\n\nRide Captain: \nJohn Faul\n256-603-1714\nEmail- jmfaul@hotmail.com\n\n\nSpecial Instructions: \nPlease arrive quietly as visitation will be going on.\n11:00 AM – Visitation\n12:00 PM – Flag Line\n1:00PM –  Funeral Service.  After the funeral service we will escort this hero to Laurel Hill Memorial Gardens\, 2000 Pennsylvania Avenue\, St. Louis\, Missouri 63133. for his military honors at\n2:00 PM – Military Honors.  Flag Support Mike “Jenky” Jenkins.  Weather Forecast: Sunny Hi 84* – Low 65* Be safe and don’t forget to hydrate during these warm summer days. Cages are always welcome.\n\nFlags & Water:\nFlags will be provided\nIf you have large bike flags\, please bring them.\nWater will be provided.\n\n\n\n\nSubmitted By: John Faul \nPosition: Missouri Ride Captain \n\nNote: You do not have to own/ride a motorcycle or be a veteran to join\, and membership is Free. The only requirement is RESPECT! To subscribe to receive mission notices\, log into the National Site and click on the Members tab at the top. Select the Subscribe to PGR Missions option.\n Print This Page
URL:https://www.patriotguard.org/mission/larry-e-bright/
CATEGORIES:Honor Mission
END:VEVENT
END:VCALENDAR