BEGIN:VCALENDAR
VERSION:2.0
PRODID:-//Patriot Guard Riders - ECPv5.3.2.1//NONSGML v1.0//EN
CALSCALE:GREGORIAN
METHOD:PUBLISH
X-WR-CALNAME:Patriot Guard Riders
X-ORIGINAL-URL:https://www.patriotguard.org
X-WR-CALDESC:Events for Patriot Guard Riders
BEGIN:VTIMEZONE
TZID:America/New_York
BEGIN:DAYLIGHT
TZOFFSETFROM:-0500
TZOFFSETTO:-0400
TZNAME:EDT
DTSTART:20170312T070000
END:DAYLIGHT
BEGIN:STANDARD
TZOFFSETFROM:-0400
TZOFFSETTO:-0500
TZNAME:EST
DTSTART:20171105T060000
END:STANDARD
END:VTIMEZONE
BEGIN:VEVENT
DTSTART;TZID=America/New_York:20170718T084500
DTEND;TZID=America/New_York:20170718T104500
DTSTAMP:20210402T013823
CREATED:20170718T124500Z
LAST-MODIFIED:20191201T034204Z
UID:340765-1500367500-1500374700@www.patriotguard.org
SUMMARY:Larry "Duane" Garrett\, Veteran\, USA
DESCRIPTION:Larry “Duane” Garrett\, Veteran \nUSA \nSapulpa\, Oklahoma – 18 Jul 2017\n\n\n[HR][/HR] \nABOUT THE MISSION: \nThe family of US Army Veteran Larry “Duane” Garrett has asked the PGR to stand a flag line at his services to\nbe held on 18 July 2017 at Sapulpa\, OK. Services will be held at Green Hill Funeral Home\, 400 E. Teel\, Sapulpa\, OK at 10:00 am. The family has asked the PGR to provide military honors for their hero and to escort them to the Mounds Cemetery shelter. \nPRIMARY STAGING DETAILS: 18 Jul 2017 \n\nPrimary Staging Time: 8:45 A.M.\n\n\nGreen Hill Funeral Home\n400 E. Teel\nSapulpa\, Oklahoma – 74066\n\n\nRide Captain:\n\n\nTom “Jester” Pope\ntom-pope@sbcglobal.net\n918.740.1026\n\n\nSpecial Instructions:\n\n \n\nFlags & Water:\n\n\nFlags Will Be Provided\nIf you have large bike flags\, please bring them.\nWater WILL NOT be provided\, please bring your own.\n\n\nSubmitted By: Tom Pope\nPosition: Ride Captain \n[HR][/HR] \nNote:\nYou do not have to own/ride a motorcycle or be a Veteran to join and membership is Free. The only requirement is RESPECT!To join\, simply go to www.PatriotGuard.org and click on Register. Membership is Free. \nTo subscribe to receive mission notices\, log into the National Site and click on the Mission Tab at the top. Select Upcoming Missions by State. Scroll to the state(s) you would like to receive notices for and click on the green check mark. Detailed instructions are also located in the FAQs on the site by clicking on the Quick Links Tab and selecting FAQs.
URL:https://www.patriotguard.org/mission/larry-duane-garrett-veteran-usa/
END:VEVENT
END:VCALENDAR