BEGIN:VCALENDAR
VERSION:2.0
PRODID:-//Patriot Guard Riders - ECPv5.6.0//NONSGML v1.0//EN
CALSCALE:GREGORIAN
METHOD:PUBLISH
X-WR-CALNAME:Patriot Guard Riders
X-ORIGINAL-URL:https://www.patriotguard.org
X-WR-CALDESC:Events for Patriot Guard Riders
BEGIN:VTIMEZONE
TZID:America/New_York
BEGIN:DAYLIGHT
TZOFFSETFROM:-0500
TZOFFSETTO:-0400
TZNAME:EDT
DTSTART:20160313T070000
END:DAYLIGHT
BEGIN:STANDARD
TZOFFSETFROM:-0400
TZOFFSETTO:-0500
TZNAME:EST
DTSTART:20161106T060000
END:STANDARD
END:VTIMEZONE
BEGIN:VEVENT
DTSTART;TZID=America/New_York:20160824T090000
DTEND;TZID=America/New_York:20160824T110000
DTSTAMP:20210511T201949
CREATED:20160824T130000Z
LAST-MODIFIED:20191201T143413Z
UID:409737-1472029200-1472036400@www.patriotguard.org
SUMMARY:Larry Cawvey
DESCRIPTION:PO2 Larry “Mike” Cawvey\nUS Navy GWOT Era Veteran\nSapulpa\, OK\n24 Aug 2016 \n\n\n\nThe family of US Navy Veteran Larry “Mike” Cawvey has asked the PGR to stand a Flag line and perform Military Honors at his memorial service to be held on 24 August 2016  at Sapulpa OK.  Services will be held at Green Hill Funeral Home 400 E. Teel\, Sapulpa OK at 2:00 PM. \nDate: Wednesday 24 August 2016 \nStaging: 1245 hours \nGreen Hill Funeral Home\n400 E. Teel\nSapulpa\, OK \nBriefing: 1300 hours \nKSU: N/A \nFlag line: Following Briefing \nWeather: High – 93* Party Cloudy HYDRATE!!! \nRCIC:\nSteve Craig\n918.312.1769\nstevencraig12@hotmail.com \nASSISTING:\nTom “Jester” Pope
URL:https://www.patriotguard.org/mission/larry-cawvey/
CATEGORIES:Archive
END:VEVENT
END:VCALENDAR