BEGIN:VCALENDAR
VERSION:2.0
PRODID:-//Patriot Guard Riders - ECPv5.3.2.1//NONSGML v1.0//EN
CALSCALE:GREGORIAN
METHOD:PUBLISH
X-WR-CALNAME:Patriot Guard Riders
X-ORIGINAL-URL:https://www.patriotguard.org
X-WR-CALDESC:Events for Patriot Guard Riders
BEGIN:VTIMEZONE
TZID:America/New_York
BEGIN:DAYLIGHT
TZOFFSETFROM:-0500
TZOFFSETTO:-0400
TZNAME:EDT
DTSTART:20170312T070000
END:DAYLIGHT
BEGIN:STANDARD
TZOFFSETFROM:-0400
TZOFFSETTO:-0500
TZNAME:EST
DTSTART:20171105T060000
END:STANDARD
END:VTIMEZONE
BEGIN:VEVENT
DTSTART;TZID=America/New_York:20170302T163000
DTEND;TZID=America/New_York:20170302T183000
DTSTAMP:20210406T012641
CREATED:20170302T213000Z
LAST-MODIFIED:20191201T032316Z
UID:327340-1488472200-1488479400@www.patriotguard.org
SUMMARY:Lamar "Sonny" Burdine \, Veteran\, USAF \, EMS/EMT
DESCRIPTION:Lamar “Sonny” Burdine\, Veteran \nUSAF EMS/EMT \nMULTI-CITY\, Mississippi – 02 Mar 2017\n\n[HR][/HR]\nABOUT THE MISSION: \nThe family of Lamar “Sonny” Burdine has requested the PATRIOT GUARD RIDERS honor and pay respect to him for his service to our country and his community.\nSonny honorably and proudly served in the US Air Force and was the owner and manager of Burdine’s EMS. \n\nSTAGING FOR VISITATION: Thursday 2 March 2017 at 4:30 PM at STRICKLIN – KING FUNERAL HOME; 718 Calhoun Ave.; Yazoo City\, MS 39194\, the PGR will provide a silent US Flag for visitation from 5:00 PM until 7:00 PM. \nRC Robert “BikerBob” Cox\n601.927.5576 \n\nSTAGING FOR ESCORT: Friday 3 March 2017 at 10:00 AM at the SHELL GAS MART; 31290 Hwy 12 @ SE corner of the intersection of I-55\, Exit 156\, KSU when the procession arrives for the escort to the KOSCIUSKO CITY CEMETERY; 500 S Huntington St.; Kosciusko\, MS 39090\, then provide a silent US Flag line for the graveside service beginning at 11:00 AM. \nRC David White\nALR-44\n662.582.7788 \nPRIMARY STAGING DETAILS: 02 Mar 2017 \n \nPrimary Staging Time: 4:30 P.M.\n\nStricklin – King Funeral Home\n718 Calhoun Ave.\n\nYazoo City\, Mississippi – 39194\n\n\n\n \n \nRide Captain:\n\nRobert “BikerBob” Cox\n\n \n \nSpecial Instructions:\n\nSTAGING FOR VISITATION: Thursday 2 March 2017 at 4:30 PM at STRICKLIN – KING FUNERAL HOME; 718 Calhoun Ave.; Yazoo City\, MS 39194\, the PGR will provide a silent US Flag for visitation from 5:00 PM until 7:00 PM.\n\n \n \nFlags & Water:\n\nFlags Will Be Provided\n\nLarge Bike Flags will NOT be needed.\n\nWater will be provided.\n\n[HR][/HR]\nSTAGING #2 DETAILS: 03 Mar\, 2017 \n \nStaging #2 Time: 10:00 A.M.\n\nSTAGING FOR ESCORT: Friday 3 March 2017 at 10:00 AM at the SHELL GAS MART; 31290 Hwy 12 @ SE corner of the intersection of I-55\, Exit 156\, KSU when the procession arrives for the escort to the KOSCIUSKO CITY CEMETERY; 500 S Huntington St.; Kosciusko\, MS 39090\, then provide a silent US Flag line for the graveside service beginning at 11:00 AM.\n\nDurant\, Mississippi – 39063\n\n\n\n \n \nRide Captain:\n\nDavid White\n662.582.7788\n\n \n \nSpecial Instructions:\n\n\n\n \n \nFlags & Water:\n\nFlags Will Be Provided\n\nLarge Bike Flags will be needed\n\nWater WILL NOT be provided\, please bring your own.\n\nSubmitted By: Don McKibben\nPosition: State Captain \n[HR][/HR]\nNote:\nYou do not have to own/ride a motorcycle or be a Veteran to join and membership is Free. The only requirement is RESPECT! To join\, simply go to Patriot Guard website and click on Register. Membership is Free. \nTo subscribe to receive mission notices\, log into the National Site and click on the Mission Tab at the top. Select Upcoming Missions by State. Scroll to the state(s) you would like to receive notices for and click on the green check mark. Detailed instructions are also located in the FAQs on the site by clicking on the Quick Links Tab and selecting FAQs.
URL:https://www.patriotguard.org/mission/lamar-sonny-burdine-veteran-usaf-ems-emt/
END:VEVENT
END:VCALENDAR