BEGIN:VCALENDAR
VERSION:2.0
PRODID:-//Patriot Guard Riders - ECPv5.6.0//NONSGML v1.0//EN
CALSCALE:GREGORIAN
METHOD:PUBLISH
X-WR-CALNAME:Patriot Guard Riders
X-ORIGINAL-URL:https://www.patriotguard.org
X-WR-CALDESC:Events for Patriot Guard Riders
BEGIN:VTIMEZONE
TZID:America/New_York
BEGIN:DAYLIGHT
TZOFFSETFROM:-0500
TZOFFSETTO:-0400
TZNAME:EDT
DTSTART:20160313T070000
END:DAYLIGHT
BEGIN:STANDARD
TZOFFSETFROM:-0400
TZOFFSETTO:-0500
TZNAME:EST
DTSTART:20161106T060000
END:STANDARD
END:VTIMEZONE
BEGIN:VEVENT
DTSTART;TZID=America/New_York:20160729T090000
DTEND;TZID=America/New_York:20160729T110000
DTSTAMP:20210512T232426
CREATED:20160729T130000Z
LAST-MODIFIED:20191201T144030Z
UID:410319-1469782800-1469790000@www.patriotguard.org
SUMMARY:Laddie Dowell Cupp
DESCRIPTION:We have been invited to attend the Funeral of Cpl Laddie Dowell Cupp\, Veteran US Marine Corps \nInterment 1300 (1 pm) 29 Jul at\nVeterans Memorial Cemetery\n2830 Riverside Parkway\nGrand Junction\, CO \nStage 12:15 pm at Shelter Area \nRide Captain:  Art Edwards\nharleyroadk@yahoo.com
URL:https://www.patriotguard.org/mission/laddie-dowell-cupp/
CATEGORIES:Archive
END:VEVENT
END:VCALENDAR