BEGIN:VCALENDAR
VERSION:2.0
PRODID:-//Patriot Guard Riders - ECPv5.3.2.1//NONSGML v1.0//EN
CALSCALE:GREGORIAN
METHOD:PUBLISH
X-WR-CALNAME:Patriot Guard Riders
X-ORIGINAL-URL:https://www.patriotguard.org
X-WR-CALDESC:Events for Patriot Guard Riders
BEGIN:VTIMEZONE
TZID:America/New_York
BEGIN:DAYLIGHT
TZOFFSETFROM:-0500
TZOFFSETTO:-0400
TZNAME:EDT
DTSTART:20190310T070000
END:DAYLIGHT
BEGIN:STANDARD
TZOFFSETFROM:-0400
TZOFFSETTO:-0500
TZNAME:EST
DTSTART:20191103T060000
END:STANDARD
END:VTIMEZONE
BEGIN:VEVENT
DTSTART;VALUE=DATE:20190914
DTEND;VALUE=DATE:20190915
DTSTAMP:20210401T140320
CREATED:20190908T141132Z
LAST-MODIFIED:20190908T141132Z
UID:173037-1568419200-1568505599@www.patriotguard.org
SUMMARY:Krystian Jameson
DESCRIPTION:Welcome Home\nKrystian Jameson\,\nUSMC –\nLake Havasu City\, Arizona – 09-14-19\n\n\n\n\nABOUT THE MISSION: \nThe family of Krystian Jameson has requested the PGR to honor him for his service to our country. It will be our Honor to do so! Krystian 18\, Private 1st Class\, graduated from Basic Training at Marine Corps Recruit Depot in San Diego. Krystian has a short leave\, then is going to Camp Pendleton\, CA\, then is off to Pensacola\, FL where he will be learning Basic Avionics!\n\n\nPRIMARY STAGING DETAILS: 09-14-19 \nStaging Time: 2:00 pm \nLake Havasu High School (Upper Parking lot)\n2675 S. Palo Verde Blvd.\nLake Havasu City\, Arizona 86403\n\n\nRide Captain: \nJerry Heredia  curbcrow@frontiernet.net\n\n\nSpecial Instructions: \nSafety Briefing:  2:20 P.M.\nKSU :  2:30 P.M.\n\nFlags & Water:\nFlags will not be provided\nIf you have large bike flags\, please bring them.\nWater WILL NOT be provided\, please bring your own.\n\nSTAGING #2 DETAILS: 09-14-19 \nStaging Time: 2:20  \nVFW POST 9401\n266 London Bridge Road\nLake Havasu City\, Arizona 86403\n\n\nRide Captain: \nJed ‘Muther Hen” Kohler\n717-880-7745  jedsky@live.com\n\n\nSpecial Instructions: \nCeremony: 2:40 P.M.\n\nFlags & Water:\n\nFlags will be provided\nLarge Bike Flags will NOT be needed.\nWater will be provided.\n\nSubmitted By: Jed Kohler \nPosition: Arizona Assistant State Captain \n\nNote: You do not have to own/ride a motorcycle or be a veteran to join\, and membership is Free. The only requirement is RESPECT! To subscribe to receive mission notices\, log into the National Site and click on the Members tab at the top. Select the Subscribe to PGR Missions option.\n Print This Page
URL:https://www.patriotguard.org/mission/krystian-jameson/
CATEGORIES:Welcome Home
END:VEVENT
END:VCALENDAR