BEGIN:VCALENDAR
VERSION:2.0
PRODID:-//Patriot Guard Riders - ECPv5.3.2.1//NONSGML v1.0//EN
CALSCALE:GREGORIAN
METHOD:PUBLISH
X-WR-CALNAME:Patriot Guard Riders
X-ORIGINAL-URL:https://www.patriotguard.org
X-WR-CALDESC:Events for Patriot Guard Riders
BEGIN:VTIMEZONE
TZID:America/New_York
BEGIN:DAYLIGHT
TZOFFSETFROM:-0500
TZOFFSETTO:-0400
TZNAME:EDT
DTSTART:20170312T070000
END:DAYLIGHT
BEGIN:STANDARD
TZOFFSETFROM:-0400
TZOFFSETTO:-0500
TZNAME:EST
DTSTART:20171105T060000
END:STANDARD
END:VTIMEZONE
BEGIN:VEVENT
DTSTART;TZID=America/New_York:20171014T153000
DTEND;TZID=America/New_York:20171014T173000
DTSTAMP:20210404T115047
CREATED:20171014T193000Z
LAST-MODIFIED:20191201T030400Z
UID:308612-1507995000-1508002200@www.patriotguard.org
SUMMARY:Kristopher Lee Kuhaneck\, Veteran\, USAF - Vietnam
DESCRIPTION:Kristopher Lee Kuhaneck\, Veteran\nUSAF  – Vietnam\nMiami\, Arizona – 14 Oct 2017\n\n\n[HR][/HR]\nABOUT THE MISSION: \n\nThe Family of Kristopher Lee Kuhaneck  requests an escort and a flag line in Honor and Respect for Kris. Kris  was a resident of Globe since 1999\, was born in Salamanca\, NY in 1952\,  and passed away unexpectedly in Tucson\, AZ on 09/18/17. Kris served in  the US Air Force during Vietnam from 1970 to 1974.\nWe will escort Kris from Bullion Plaza\, 150 N Plaza Cir\, Miami\, AZ  85539\, at 4 pm Sat.\, Oct 14th and escort cremains to American Legion  Henry Berry Post #4\, 645 S. Broad St. Globe\, AZ 85501\, with a flag line  at the post for military honors. Military Honors to commence upon  arrival. Family requests to be present for the briefing. Flag line at  Military Honors only.\n\n\nPRIMARY STAGING DETAILS:  14 Oct 2017\nPrimary Staging Time: 3:30 P.M. \n\nBullion Plaza\n150 N Plaza Cir\,\nMiami\, Arizona – 85539\n\n\nRide Captain: \n\nJimi “Cowboy” Searle\n602-918-0577\n\n\nSpecial Instructions: \n\nBriefing will be at 3:45 and family would like to attend.\nThis is staging for escort only. No flag line here.\n\n\nFlags & Water: \n\nFlags Will Not Be Needed\nIf you have large bike flags\, please bring them.\nWater WILL NOT be provided\, please bring your own.\n\n[HR][/HR]STAGING #2 DETAILS: 14 Oct\, 2017\nStaging #2 Time: 4:00 P.M. \n\nAmerican Legion\, Henry Berry Post #4\,\n645 S. Broad St.\nGlobe\, Arizona – 85501\n\n\nRide Captain: \n\nJimi “Cowboy” Searle\n602-918-0577 \n\nSpecial Instructions: \n\nHave flag line up when the escort arrives around 4:15\n\n\nFlags & Water: \n\nFlags Will Be Provided\nLarge Bike Flags will be needed\nWater will be provided.\n\n\nSubmitted By: Grizzz Paschke\nPosition: Assistant State Captain\n[HR][/HR]Note:\nYou do not have to own/ride a motorcycle or be a Veteran to join and membership is Free. The only requirement is RESPECT! To join\, simply go to www.PatriotGuard.org and click on Register. Membership is Free. \nTo subscribe to receive mission notices\, log into the National Site and click on the Mission Tab at the top. Select the Subscribe to Missions option.
URL:https://www.patriotguard.org/mission/kristopher-lee-kuhaneck-veteran-usaf-vietnam/
END:VEVENT
END:VCALENDAR