BEGIN:VCALENDAR
VERSION:2.0
PRODID:-//Patriot Guard Riders - ECPv5.3.2.1//NONSGML v1.0//EN
CALSCALE:GREGORIAN
METHOD:PUBLISH
X-WR-CALNAME:Patriot Guard Riders
X-ORIGINAL-URL:https://www.patriotguard.org
X-WR-CALDESC:Events for Patriot Guard Riders
BEGIN:VTIMEZONE
TZID:America/New_York
BEGIN:DAYLIGHT
TZOFFSETFROM:-0500
TZOFFSETTO:-0400
TZNAME:EDT
DTSTART:20180311T070000
END:DAYLIGHT
BEGIN:STANDARD
TZOFFSETFROM:-0400
TZOFFSETTO:-0500
TZNAME:EST
DTSTART:20181104T060000
END:STANDARD
END:VTIMEZONE
BEGIN:VEVENT
DTSTART;TZID=America/New_York:20180510T093000
DTEND;TZID=America/New_York:20180510T113000
DTSTAMP:20210401T160648
CREATED:20180510T133000Z
LAST-MODIFIED:20200709T012319Z
UID:332939-1525944600-1525951800@www.patriotguard.org
SUMMARY:Key Ceremony
DESCRIPTION:HOTH Mission\nKey Ceremony\nLas Vegas\, Nevada – 10 May 2018\n\n\nABOUT THE MISSION: \nThe Home Donation Team at Bank of America and USA Homeownership Foundation (aka VAREP) are presenting a a mortgage-free home to a deserving veteran. PGR will provide an escort and then present a flag line at the dedication ceremony.\nPRIMARY STAGING DETAILS: 10 May 2018\nPrimary Staging Time: 9:30 A.M. \nLowe’s\n7751 El Capitan Way\nLas Vegas\, Nevada – 89143\nRide Captain: \nRick Foulon\nsnvpgr@gmail.com\n702-427-7185\nSpecial Instructions:\n\nFlags & Water: \nFlags Will NOT Be Provided\, Please Bring Your Own.\nIf you have large bike flags\, please bring them.\nWater WILL NOT be provided\, please bring your own.\n  \n\nSubmitted By: Rick Foulon\nPosition: Assistant State Captain\n \n\nNote:\nYou do not have to own/ride a motorcycle or be a Veteran to join and membership is Free. The only requirement is RESPECT! To join\, simply go to www.PatriotGuard.org and click on Register. Membership is Free. \nTo subscribe to receive mission notices\, log into the National Site and click on the Mission Tab at the top. Select the Subscribe to Missions option.
URL:https://www.patriotguard.org/mission/key-ceremony-9/
LOCATION:Memorial Day Service
CATEGORIES:HOTH Mission
END:VEVENT
END:VCALENDAR