BEGIN:VCALENDAR
VERSION:2.0
PRODID:-//Patriot Guard Riders - ECPv5.3.2.1//NONSGML v1.0//EN
CALSCALE:GREGORIAN
METHOD:PUBLISH
X-WR-CALNAME:Patriot Guard Riders
X-ORIGINAL-URL:https://www.patriotguard.org
X-WR-CALDESC:Events for Patriot Guard Riders
BEGIN:VTIMEZONE
TZID:America/New_York
BEGIN:DAYLIGHT
TZOFFSETFROM:-0500
TZOFFSETTO:-0400
TZNAME:EDT
DTSTART:20190310T070000
END:DAYLIGHT
BEGIN:STANDARD
TZOFFSETFROM:-0400
TZOFFSETTO:-0500
TZNAME:EST
DTSTART:20191103T060000
END:STANDARD
END:VTIMEZONE
BEGIN:VEVENT
DTSTART;VALUE=DATE:20190727
DTEND;VALUE=DATE:20190728
DTSTAMP:20210404T022100
CREATED:20190726T044031Z
LAST-MODIFIED:20190726T044031Z
UID:168769-1564185600-1564271999@www.patriotguard.org
SUMMARY:Kevin Scott Harvey
DESCRIPTION:Honor Mission\nKevin Scott Harvey\, Retired\nUSA – WoT\nMULTI-CITY\, Oregon – 07-27-19\n\n\n\nABOUT THE MISSION: \nLadies and Gentlemen of the Patriot Guard Riders\, we have been invited to participate in a funeral service honoring a U. S. Army veteran Kevin Scott Harvey\, age 55\, of Cove\, Oregon. SFC Harvey served as a radar acquisition crew member\, and indirect fire infantry man\, a Retention NCO\, and recruiter for many of his 22 years of active duty. His military awards included the Meritorious Service Medal\, the Outstanding Voluntary Service Medal\, Army Achievement Medal (4)\, Army Superior Unit award\, National Defense Medal (2)\, Army Commendation Medal (6)\, Global War on Terrorism Service Medal\, and NCO Professional Development Ribbon (3). Please join us as we pay our respects and honor his service to our nation.\n\n\nPRIMARY STAGING DETAILS: 07-27-19 \nStaging Time: 1:00 PM\n \nGem Stop Chevron Station\n2706 Island Ave.\nLa Grande\, Oregon 97850\nMap\n\n\nRide Captain: \nLonnie (PhuLoc) Myers\n541-910-1061\nlonnie_myers@yahoo.eom\n\n\nSpecial Instructions: \n1:10 pm Briefing\n1:15 pm KSU to Ascension School (14.6 mi)\n\n\nFlags & Water:\nFlags will not be provided\nIf you have large bike flags\, please bring them.\nWater WILL NOT be provided\, please bring your own.\n\nSTAGING #2 DETAILS: 07-27-19 \nStaging Time: 2:00 PM\n \nAscension School\n1104 Church St.\nCove\, Oregon 97824\nMap\n\n\nRide Captain: \nLonnie (PhuLoc) Myers\n541-910-1061\nlonnie_myers@yahoo.eom\n\n\nSpecial Instructions: \n2:00 pm Arrive Ascension School and establish flagline\n2:30 pm Funeral service begins.\n3:00 pm Escort cremains and family to Cove Cemetery\, (Leopard Lane 1.4 mi)\nMap\nWhen service concludes\, dismiss flagline and debrief @ site TBA\nMiscellaneous: Bring 3×5 bike flags if you have them\, a few will be provided.\n\n\nFlags & Water:\nFlags will be provided\nIf you have large bike flags\, please bring them.\nWater WILL NOT be provided\, please bring your own.\n\n\n\nSubmitted By: John Hanan II \nPosition: Oregon State Captain \n\nNote: You do not have to own/ride a motorcycle or be a veteran to join\, and membership is Free. The only requirement is RESPECT! To subscribe to receive mission notices\, log into the National Site and click on the Members tab at the top. Select the Subscribe to PGR Missions option.\n Print This Page
URL:https://www.patriotguard.org/mission/kevin-scott-harvey/
CATEGORIES:Honor Mission
END:VEVENT
END:VCALENDAR