BEGIN:VCALENDAR
VERSION:2.0
PRODID:-//Patriot Guard Riders - ECPv5.3.2.1//NONSGML v1.0//EN
CALSCALE:GREGORIAN
METHOD:PUBLISH
X-WR-CALNAME:Patriot Guard Riders
X-ORIGINAL-URL:https://www.patriotguard.org
X-WR-CALDESC:Events for Patriot Guard Riders
BEGIN:VTIMEZONE
TZID:America/New_York
BEGIN:DAYLIGHT
TZOFFSETFROM:-0500
TZOFFSETTO:-0400
TZNAME:EDT
DTSTART:20190310T070000
END:DAYLIGHT
BEGIN:STANDARD
TZOFFSETFROM:-0400
TZOFFSETTO:-0500
TZNAME:EST
DTSTART:20191103T060000
END:STANDARD
END:VTIMEZONE
BEGIN:VEVENT
DTSTART;VALUE=DATE:20190802
DTEND;VALUE=DATE:20190803
DTSTAMP:20210402T135613
CREATED:20190801T013041Z
LAST-MODIFIED:20190801T013041Z
UID:169345-1564704000-1564790399@www.patriotguard.org
SUMMARY:Kevin Patrick Sullivan
DESCRIPTION:Honor Mission\nKevin Patrick Sullivan\, Active Duty\nUSA\, USAR – WoT\nSouthgate\, Michigan – 08-02-19\n\n\n\nABOUT THE MISSION: \nThe Family of CW2 Kevin P. Sullivan has requested the Patriot Guard Riders to do a silent Flag Line in honor of his service to our Country. CW2 Sullivan was on Active Duty. His awards and decorations were; Army Commendation Medal\, Army Good Conduct Medal\, Army Reserve Component Achievement Medal\, National Defense Service Medal\, Iraq Campaign Medal with Campaign Star\, Global War on Terrorism Service Medal\, Armed Forces Reserve Medal with M/Device\, Army Service Ribbon and Overseas Service Ribbon. CW2 Sullivan is survived by his parents\, one sister\, his fiancee\, her two daughters\, and many other relatives.\nObituary\n\n\nPRIMARY STAGING DETAILS: 08-02-19 \nStaging Time: 4:15 PM\n \nMolnar Funeral Home\n14032 Northline Rd.\nSouthgate\, Michigan 48195\nMap\n\n\nRide Captain: \nBUBBA\n734-658–995\n\n\nSpecial Instructions: \nBriefing: 4:30 PM\nFlag Line: 5:00 PM till 8:00 PM\nPlease bring your 3’X5′ American Flag\, and Dress for the weather.\n\n\nFlags & Water:\nFlags will not be provided\nLarge Bike Flags will NOT be needed.\nWater WILL NOT be provided\, please bring your own.\n\n\n\nSubmitted By: Kenneth Talant \nPosition: Michigan Assistant State Captain \n\nNote: You do not have to own/ride a motorcycle or be a veteran to join\, and membership is Free. The only requirement is RESPECT! To subscribe to receive mission notices\, log into the National Site and click on the Members tab at the top. Select the Subscribe to PGR Missions option.\n Print This Page
URL:https://www.patriotguard.org/mission/kevin-patrick-sullivan/
CATEGORIES:Honor Mission
END:VEVENT
END:VCALENDAR