BEGIN:VCALENDAR
VERSION:2.0
PRODID:-//Patriot Guard Riders - ECPv5.3.2.1//NONSGML v1.0//EN
CALSCALE:GREGORIAN
METHOD:PUBLISH
X-WR-CALNAME:Patriot Guard Riders
X-ORIGINAL-URL:https://www.patriotguard.org
X-WR-CALDESC:Events for Patriot Guard Riders
BEGIN:VTIMEZONE
TZID:America/New_York
BEGIN:DAYLIGHT
TZOFFSETFROM:-0500
TZOFFSETTO:-0400
TZNAME:EDT
DTSTART:20190310T070000
END:DAYLIGHT
BEGIN:STANDARD
TZOFFSETFROM:-0400
TZOFFSETTO:-0500
TZNAME:EST
DTSTART:20191103T060000
END:STANDARD
END:VTIMEZONE
BEGIN:VEVENT
DTSTART;VALUE=DATE:20190909
DTEND;VALUE=DATE:20190910
DTSTAMP:20210401T125226
CREATED:20190906T014637Z
LAST-MODIFIED:20190906T014826Z
UID:172821-1567987200-1568073599@www.patriotguard.org
SUMMARY:Kevin Gerard Lyon
DESCRIPTION:Honor Mission\nKevin Gerard Lyon\, Veteran\nUSMC –\nPhoenix\, Arizona – 09-09-19\n\n\n\nABOUT THE MISSION: \nKevin Gerard Lyon was a United States Marine Corps Veteran\, serving as an equipment mechanic and attaining the rank of Lance Corporal. He received the National Defense Medal and the Rifle Expert Badge.\n\n\nPRIMARY STAGING DETAILS: 09-09-19 \nStaging Time: 09:15 AM\n \nBest Funeral Services\n501 E Dunlap Ave\nPhoenix\, Arizona 85020\n\n\nRide Captain: \nBill “Wildhorse” Wooster\n480-747-7091\npgrhoth@gmail.com\n\nLRG Jim Anderson\n\n\nSpecial Instructions: \nCircle of Honor at 9:30 am.\nKSU to National at 9:50 am\nMilitary Honors at 10:30 am\n\n\nFlags & Water:\nFlags will not be provided\nIf you have large bike flags\, please bring them.\nWater WILL NOT be provided\, please bring your own.\n\nSTAGING #2 DETAILS: 09-09-19 \nStaging Time: 10:10 AM\n \nNational Cemetery Visitors Center\n23029 N Cave Creek\nPhoenix\, Arizona 85024\n\n\nRide Captain: \nBill “Wildhorse” Wooster\n480-747-7091\npgrhoth@gmail.com\n\nFlag Support TBD\n\n\nSpecial Instructions: \nMeet Flag Support at Visitors Center\, proceed to designated shelter at 1015 am and prepare for escort arrival.\n\n\nFlags & Water:\nFlags will be provided\nLarge Bike Flags will NOT be needed.\nWater will be provided.\n\n\n\nSubmitted By: Bill Wooster \nPosition: Arizona Assistant State Captain \n\nNote: You do not have to own/ride a motorcycle or be a veteran to join\, and membership is Free. The only requirement is RESPECT! To subscribe to receive mission notices\, log into the National Site and click on the Members tab at the top. Select the Subscribe to PGR Missions option.\n Print This Page
URL:https://www.patriotguard.org/mission/kevin-gerard-lyon/
CATEGORIES:Honor Mission
END:VEVENT
END:VCALENDAR