BEGIN:VCALENDAR
VERSION:2.0
PRODID:-//Patriot Guard Riders - ECPv5.6.0//NONSGML v1.0//EN
CALSCALE:GREGORIAN
METHOD:PUBLISH
X-WR-CALNAME:Patriot Guard Riders
X-ORIGINAL-URL:https://www.patriotguard.org
X-WR-CALDESC:Events for Patriot Guard Riders
BEGIN:VTIMEZONE
TZID:America/New_York
BEGIN:DAYLIGHT
TZOFFSETFROM:-0500
TZOFFSETTO:-0400
TZNAME:EDT
DTSTART:20160313T070000
END:DAYLIGHT
BEGIN:STANDARD
TZOFFSETFROM:-0400
TZOFFSETTO:-0500
TZNAME:EST
DTSTART:20161106T060000
END:STANDARD
END:VTIMEZONE
BEGIN:VEVENT
DTSTART;TZID=America/New_York:20160806T090000
DTEND;TZID=America/New_York:20160806T110000
DTSTAMP:20210512T051603
CREATED:20160806T130000Z
LAST-MODIFIED:20191201T143910Z
UID:410196-1470474000-1470481200@www.patriotguard.org
SUMMARY:Kerry Inman\, USMC
DESCRIPTION:CPL Kerry Inman\nUSMC Vietnam Veteran\nTucson\, AZ\n6 AUGUST 2016\n\n\n\nKerry Inman was born in Cape Girardeau\, Missouri on 28 November 1949. \nAt 18 years of age\, Kerry volunteered in the United States Marine Corps.  His service time started in 1968 and he ended his military career as a Corporal in 1970.  During his service CPL Inman received several medals of accommodation\, some of them being:  Vietnam Service Medal with one star\, Presidential Unit Citation\, National Defense Service Medal\, Combat Action Medal\, Expert Rifle Medal\, Expert Pistol Medal\, Two Purple Hearts and a Bronze Star. \nCPL Inman was a true patriot and loved this great country we live in. \nCPL Inman lost his battle with injuries sustained from his service time on 26 July 2016. \nHe leaves behind his wife of twenty five years\, Patricia\, 2 daughters and 6 grand children along with many other family and friends. \nThe Patriot Guard Riders have been invited and it will be our honor to stand a flag line for this hero and his family. \nDATE:  6 August 2016 \nSTAGING:\nEast Lawn Palms Cemetery Chapel\n5801 East Grant Road\nTucson\, AZ \nTIME:  8:45AM\n\nBRIEFING:  9:00AM \nRIDE CAPTAIN:\nBenny\n520-444-3023 \n***PLEASE REMEMBER WE ARE IN THE HEAT OF SUMMER TO HYDRATE THE DAY BEFORE AS WELL AS THE DAY OF THE MISSION
URL:https://www.patriotguard.org/mission/kerry-inman-usmc/
CATEGORIES:Archive
END:VEVENT
END:VCALENDAR