BEGIN:VCALENDAR
VERSION:2.0
PRODID:-//Patriot Guard Riders - ECPv5.3.2.1//NONSGML v1.0//EN
CALSCALE:GREGORIAN
METHOD:PUBLISH
X-WR-CALNAME:Patriot Guard Riders
X-ORIGINAL-URL:https://www.patriotguard.org
X-WR-CALDESC:Events for Patriot Guard Riders
BEGIN:VTIMEZONE
TZID:America/New_York
BEGIN:DAYLIGHT
TZOFFSETFROM:-0500
TZOFFSETTO:-0400
TZNAME:EDT
DTSTART:20190310T070000
END:DAYLIGHT
BEGIN:STANDARD
TZOFFSETFROM:-0400
TZOFFSETTO:-0500
TZNAME:EST
DTSTART:20191103T060000
END:STANDARD
END:VTIMEZONE
BEGIN:VEVENT
DTSTART;VALUE=DATE:20190603
DTEND;VALUE=DATE:20190604
DTSTAMP:20210404T235756
CREATED:20190601T112730Z
LAST-MODIFIED:20190601T112730Z
UID:163256-1559520000-1559606399@www.patriotguard.org
SUMMARY:Kennith R. "Perky" Perkins
DESCRIPTION:Honor Mission\nKennith R. “Perky” Perkins\, Veteran\nUSA\, USAR – Vietnam\nBoonville\, Missouri – 06-03-19\n\n\n\n\nABOUT THE MISSION: \nThe family of hero Kennith R. “Perky” Perkins has honored the Patriot Guard Riders with a request to stand a silent flag line for visitation and a celebration of Kenneth’s life.  It will be held after with Full Military Honors.  Mr. Perkins served in Vietnam then joined USAR after his tour.  He also retired from Boonville Correctional Center as a correctional officer.  Kenny was also on flight #41 of the Central Missouri Honor Flight.\n\n\nPRIMARY STAGING DETAILS: 06-03-19 \nStaging Time: 3:15 p.m.  \nFraternal Order of Eagles Post #1022\n708 11th St\nBoonville\, Missouri 65233\n\n\nRide Captain: \n“Neighbor” Dave Wallingford\, twocreeksholler@yahoo.ca\, 573-569-1989\n\n\nSpecial Instructions: \nFlag line only.\nVisitation 4-6 pm.  Full Military Honors to follow visitation/dinner\nWeather should not be an issue\, but Boonville will only be accessible from I-70\, old route hwy 40\, 5\, and 87 to the north will more than likely be closed due to flooding.\n\n\nFlags & Water:\nFlags will be provided\nLarge Bike Flags will NOT be needed.\nWater will be provided.\n\n\nSubmitted By: David Wallingford \nPosition: Missouri Ride Captain \n\nNote: You do not have to own/ride a motorcycle or be a veteran to join\, and membership is Free. The only requirement is RESPECT! To subscribe to receive mission notices\, log into the National Site and click on the Members tab at the top. Select the Subscribe to PGR Missions option.\n Print This Page
URL:https://www.patriotguard.org/mission/kennith-r-perky-perkins/
CATEGORIES:Honor Mission
END:VEVENT
END:VCALENDAR