BEGIN:VCALENDAR
VERSION:2.0
PRODID:-//Patriot Guard Riders - ECPv5.6.0//NONSGML v1.0//EN
CALSCALE:GREGORIAN
METHOD:PUBLISH
X-WR-CALNAME:Patriot Guard Riders
X-ORIGINAL-URL:https://www.patriotguard.org
X-WR-CALDESC:Events for Patriot Guard Riders
BEGIN:VTIMEZONE
TZID:America/New_York
BEGIN:DAYLIGHT
TZOFFSETFROM:-0500
TZOFFSETTO:-0400
TZNAME:EDT
DTSTART:20160313T070000
END:DAYLIGHT
BEGIN:STANDARD
TZOFFSETFROM:-0400
TZOFFSETTO:-0500
TZNAME:EST
DTSTART:20161106T060000
END:STANDARD
END:VTIMEZONE
BEGIN:VEVENT
DTSTART;TZID=America/New_York:20160819T090000
DTEND;TZID=America/New_York:20160819T110000
DTSTAMP:20210512T022624
CREATED:20160819T130000Z
LAST-MODIFIED:20191201T143503Z
UID:409813-1471597200-1471604400@www.patriotguard.org
SUMMARY:Kenneth Wayne Burns\, Sr.
DESCRIPTION:We\, the Patriot Guard Riders have been invited to escort and stand for Kenneth Wayne Burns\, Sr.\, an American Patriot. We will stand tall\, with honor and dignity for one that stood for us. \nObituary Link:  http://www.moserfuneralhome.com/obituary/Kenneth-Wayne-Burns-Sr./Warrenton-VA/1646358\n\nThis will be a two part mission. \nStage:\nMoser Funeral Home\,\n233 Broadview Ave\,\nWarrenton\, VA 20186\nTime:  11:45  Friday\, 19 Aug 2016 \nEscort to Culpepper National Cemetery and form a flag line at the new section burial shelter. \n13:00 Honors service. \nNo firearms allowed on this US Government facility. \nRide Captain:  Jim Robinson\njimrobinson@virginiapatriotguard.org\nCell: 540-718-9317
URL:https://www.patriotguard.org/mission/kenneth-wayne-burns-sr/
CATEGORIES:Archive
END:VEVENT
END:VCALENDAR