BEGIN:VCALENDAR
VERSION:2.0
PRODID:-//Patriot Guard Riders - ECPv5.3.2.1//NONSGML v1.0//EN
CALSCALE:GREGORIAN
METHOD:PUBLISH
X-WR-CALNAME:Patriot Guard Riders
X-ORIGINAL-URL:https://www.patriotguard.org
X-WR-CALDESC:Events for Patriot Guard Riders
BEGIN:VTIMEZONE
TZID:America/New_York
BEGIN:DAYLIGHT
TZOFFSETFROM:-0500
TZOFFSETTO:-0400
TZNAME:EDT
DTSTART:20170312T070000
END:DAYLIGHT
BEGIN:STANDARD
TZOFFSETFROM:-0400
TZOFFSETTO:-0500
TZNAME:EST
DTSTART:20171105T060000
END:STANDARD
END:VTIMEZONE
BEGIN:VEVENT
DTSTART;TZID=America/New_York:20170904T110000
DTEND;TZID=America/New_York:20170904T130000
DTSTAMP:20210406T040135
CREATED:20170904T150000Z
LAST-MODIFIED:20191201T032651Z
UID:330197-1504522800-1504530000@www.patriotguard.org
SUMMARY:Kenneth Wagner Sr.\, Veteran\, USA - WWII\, Korea
DESCRIPTION:Kenneth Wagner Sr.\, Veteran\nUSA – WWII\, Korea\nSt. Louis\, Missouri – 04 Sep 2017\n\n\n[HR][/HR]\nABOUT THE MISSION: \n\nThe family of Kenneth Wagner Sr. has invited the Patriot Guard to stand a flag line for his committal service at Jefferson Barracks National Cemetery. Mr. Wagner served in both WWII and Korea.\n\n\nPRIMARY STAGING DETAILS: 04 Sep 2017\nPrimary Staging Time: 11:00 A.M. \n\nJefferson Barracks National Cemetery\n2900 Sheridan Rd.\nSt. Louis\, Missouri – 63125\n\n\nRide Captain: \n\nAnd flag Support\nDenny Dutchman Eads\n314-277-2821\n\n\nSpecial Instructions: \n\nService at 11:30 AM\n\n\nFlags & Water: \n\nFlags Will Be Provided\nIf you have large bike flags\, please bring them.\nWater will be provided.\n\n\nSubmitted By: Denny Eads\nPosition: Ride Captain\n[HR][/HR]Note:\nYou do not have to own/ride a motorcycle or be a Veteran to join and membership is Free. The only requirement is RESPECT! To join\, simply go to www.PatriotGuard.org and click on Register. Membership is Free. \nTo subscribe to receive mission notices\, log into the National Site and click on the Mission Tab at the top. Select the Subscribe to Missionsoption.
URL:https://www.patriotguard.org/mission/kenneth-wagner-sr-veteran-usa-wwii-korea/
LOCATION:Jerry Wayne Edwards
END:VEVENT
END:VCALENDAR