BEGIN:VCALENDAR
VERSION:2.0
PRODID:-//Patriot Guard Riders - ECPv5.6.0//NONSGML v1.0//EN
CALSCALE:GREGORIAN
METHOD:PUBLISH
X-WR-CALNAME:Patriot Guard Riders
X-ORIGINAL-URL:https://www.patriotguard.org
X-WR-CALDESC:Events for Patriot Guard Riders
BEGIN:VTIMEZONE
TZID:America/New_York
BEGIN:DAYLIGHT
TZOFFSETFROM:-0500
TZOFFSETTO:-0400
TZNAME:EDT
DTSTART:20160313T070000
END:DAYLIGHT
BEGIN:STANDARD
TZOFFSETFROM:-0400
TZOFFSETTO:-0500
TZNAME:EST
DTSTART:20161106T060000
END:STANDARD
END:VTIMEZONE
BEGIN:VEVENT
DTSTART;TZID=America/New_York:20160813T090000
DTEND;TZID=America/New_York:20160813T110000
DTSTAMP:20210511T200349
CREATED:20160813T130000Z
LAST-MODIFIED:20191201T143645Z
UID:409972-1471078800-1471086000@www.patriotguard.org
SUMMARY:Kenneth W. Fetterman\, USMC Veteran -  LEO
DESCRIPTION:Members: \nWe have the honor of receiving an invitation to stand for United States Marine Corps veteran  Kenneth Ward Fetterman by his son Eric Fetterman. \nKenneth Fetterman served as a White House Guard to Lyndon B. Johnson from 64 -67 and achieved the rank of Corporal during his enlistment. \nHe also served his community for 32 years as a Broome County Sherriff’s Deputy. \nWhen/Where:\nSaturday\, August 13\, 2016\nWhitney Point\, NY 13862 \nLRC:\nAlex (Lex) Danyluk\nridecaptainpgr@gmail.com \nStaging directly at the Church. Will give a briefing shortly after. There will be several speakers to reflect on Kenneth’s life and service\, followed by the folding of the flag\, Gun Salute\, and Taps. \nEric has extended his warm regards for what the PGR does and that we will be there to Honor his dad. He wants to also extend his invitation to stay and eat…..He said there is a ton of food and he is very grateful for you taking the time out of your weekend for us to be there. \nPending weather\, Eric Fetterman who also rides\, said he is not concerned if you cage\, as it will all take place at the Church\, no escort.
URL:https://www.patriotguard.org/mission/kenneth-w-fetterman-usmc-veteran-leo/
CATEGORIES:Archive
END:VEVENT
END:VCALENDAR