BEGIN:VCALENDAR
VERSION:2.0
PRODID:-//Patriot Guard Riders - ECPv5.6.0//NONSGML v1.0//EN
CALSCALE:GREGORIAN
METHOD:PUBLISH
X-WR-CALNAME:Patriot Guard Riders
X-ORIGINAL-URL:https://www.patriotguard.org
X-WR-CALDESC:Events for Patriot Guard Riders
BEGIN:VTIMEZONE
TZID:America/New_York
BEGIN:DAYLIGHT
TZOFFSETFROM:-0500
TZOFFSETTO:-0400
TZNAME:EDT
DTSTART:20160313T070000
END:DAYLIGHT
BEGIN:STANDARD
TZOFFSETFROM:-0400
TZOFFSETTO:-0500
TZNAME:EST
DTSTART:20161106T060000
END:STANDARD
END:VTIMEZONE
BEGIN:VEVENT
DTSTART;TZID=America/New_York:20160720T090000
DTEND;TZID=America/New_York:20160720T110000
DTSTAMP:20210512T140404
CREATED:20160720T130000Z
LAST-MODIFIED:20191201T144215Z
UID:410483-1469005200-1469012400@www.patriotguard.org
SUMMARY:Kenneth Robert McDaniel
DESCRIPTION:Patriot’s Name: Sgt Kenneth Robert McDaniel\nMilitary Branch: United States Air Force\nClassification: Veteran\nLink To Obituary:\nhttp://www.cornerstonehillsboro.com/memsol.cgi?user_id=1829156 \nMission Ride Captain: Brian “Postmaster” Liberty\,\nLabliberty@yahoo.com\, (979) 702-9097 \nMission Summary: The family of Sgt Kenneth R. McDaniel has asked the Patriot Guard Riders to honor his memory and service to our Country by standing a Flag Line at his Memorial Service. \nPART 1: Memorial Service\nMission Date: Jul 20\, 2016 – Wednesday\nStaging Time: 10:00\nBriefing Time: 10:15\nIn Position Time Or KSU: 10:30\nService Start Time: 11:00 \nDetails Of Part 1: The PGR will stage at the Cornerstone Funeral Home\, where they will set the flags and the Ride Captain will conduct the briefing. The PGR will then stand the Flag Line for Sgt Kenneth R. McDaniel.  Once the service starts at 11:00 AM\, the Ride Captain will make the decision when to remove the Flags and take them to the support vehicle. The riders will be debriefed and dismissed from the mission. \nName Of Staging Point:\nCornerstone Funeral Home\n301 W. Elm Street\nHillsboro\, Texas 76645
URL:https://www.patriotguard.org/mission/kenneth-robert-mcdaniel/
CATEGORIES:Archive
END:VEVENT
END:VCALENDAR