BEGIN:VCALENDAR
VERSION:2.0
PRODID:-//Patriot Guard Riders - ECPv5.3.2.1//NONSGML v1.0//EN
CALSCALE:GREGORIAN
METHOD:PUBLISH
X-WR-CALNAME:Patriot Guard Riders
X-ORIGINAL-URL:https://www.patriotguard.org
X-WR-CALDESC:Events for Patriot Guard Riders
BEGIN:VTIMEZONE
TZID:America/New_York
BEGIN:DAYLIGHT
TZOFFSETFROM:-0500
TZOFFSETTO:-0400
TZNAME:EDT
DTSTART:20190310T070000
END:DAYLIGHT
BEGIN:STANDARD
TZOFFSETFROM:-0400
TZOFFSETTO:-0500
TZNAME:EST
DTSTART:20191103T060000
END:STANDARD
END:VTIMEZONE
BEGIN:VEVENT
DTSTART;VALUE=DATE:20190817
DTEND;VALUE=DATE:20190818
DTSTAMP:20210402T082858
CREATED:20190816T155743Z
LAST-MODIFIED:20190816T155743Z
UID:171083-1566000000-1566086399@www.patriotguard.org
SUMMARY:Kenneth Ray Wahlbrink
DESCRIPTION:Honor Mission\nKenneth Ray Wahlbrink\, Veteran\nUSAF\, USAFR\nPrescott\, Arizona – 08-17-19\n\n\n\n\nABOUT THE MISSION: \nKenneth Wahlbrink proudly served our country for 5 years in the US Air Force as an inventory management specialist. Ken was awarded the Air Force Good Conduct Medal and the Air Force Longevity Service Award. After his discharge Ken continued to serve his country and our veterans as a nurse at the Portland\, Oregon VA Center for 12 years\, and for the last 20 years he served our veterans as a nurse at the Northern Arizona VA Healthcare System in Prescot\, Arizona. Ken recently unexpectedly passed away at the age of 64.\n\n\nPRIMARY STAGING DETAILS: 08-17-19 \nStaging Time: 2:00 p.m.  \nPrescott VA\, “The Gazebo” (next to Building 154\, the Library)\n500 N. Highway 89\nPrescott\, Arizona 86313\n\n\nRide Captain: \nJohn Moffitt\, 928-713-0856\, prescottbikers@hotmail.com\n\n\nSpecial Instructions: \nStaging location: Go past the VA Chapel to the end of the road. The VA Gazebo is around the circle on your right hand side (next to Building 154\, the VA Library).  On-street parking is limited; suggest turning right at the end of the road to park in the VA Visitor’s Parking Lot or else in the lot across from the VA Chapel.\nBriefing/Circle of Honor: 2:39\nFlag line: 2:45 pm.\nMemorial service: 3:00 pm.  The flag line will come down at the conclusion of TAPS\, which will be played at the beginning of the Memorial service.\nFlag Captain:  Gary Sheldon\n\n\nFlags & Water:\nFlags will be provided\nLarge Bike Flags will NOT be needed.\nWater will be provided.\n\n\nSubmitted By: John Moffitt \nPosition: Arizona Assistant State Captain \n\nNote: You do not have to own/ride a motorcycle or be a veteran to join\, and membership is Free. The only requirement is RESPECT! To subscribe to receive mission notices\, log into the National Site and click on the Members tab at the top. Select the Subscribe to PGR Missions option.\n Print This Page
URL:https://www.patriotguard.org/mission/kenneth-ray-wahlbrink/
CATEGORIES:Honor Mission
END:VEVENT
END:VCALENDAR