BEGIN:VCALENDAR
VERSION:2.0
PRODID:-//Patriot Guard Riders - ECPv5.3.2.1//NONSGML v1.0//EN
CALSCALE:GREGORIAN
METHOD:PUBLISH
X-WR-CALNAME:Patriot Guard Riders
X-ORIGINAL-URL:https://www.patriotguard.org
X-WR-CALDESC:Events for Patriot Guard Riders
BEGIN:VTIMEZONE
TZID:America/New_York
BEGIN:DAYLIGHT
TZOFFSETFROM:-0500
TZOFFSETTO:-0400
TZNAME:EDT
DTSTART:20190310T070000
END:DAYLIGHT
BEGIN:STANDARD
TZOFFSETFROM:-0400
TZOFFSETTO:-0500
TZNAME:EST
DTSTART:20191103T060000
END:STANDARD
END:VTIMEZONE
BEGIN:VEVENT
DTSTART;VALUE=DATE:20190914
DTEND;VALUE=DATE:20190915
DTSTAMP:20210401T131342
CREATED:20190913T084749Z
LAST-MODIFIED:20190913T084749Z
UID:173686-1568419200-1568505599@www.patriotguard.org
SUMMARY:Kenneth R. Ray
DESCRIPTION:Honor Mission\nKenneth R. Ray\n–\nNiles\, Michigan – 09-14-19\n\n\n\nABOUT THE MISSION: \nThe Family of Kenneth Ray has invited the Patriot Guard Riders to stand in honor of his service to the Community. Ken was very active in community affairs\, being a Reserve Police Officer for 24 years. Mr. Ray had a passion for animals and children\, he coached and umpired for many years. He loved motorcycles and playing pool and darts with his many friends but his biggest joy was spending time with his Family.\nObituary\n\n\nPRIMARY STAGING DETAILS: 09-14-19 \nStaging Time: 09:00 AM\n \nBrown Funeral Home and Cremation Services\n521 E. Main St.\nNiles\, Michigan 49120\nMap\n\n\nRide Captain: \nBob\n(574) 215-5872\n\n\nSpecial Instructions: \nBriefing 9:15 am\nFlag line after Briefing\nCOMMITAL: Mission Hills Memorial Chapel\, 61453 M 51Niles\, MI.\nMap\nIt is not known at this time if we will be doing an Escort to the Cemetery. Instructions will be given at the Briefing.\n\n\nFlags & Water:\nFlags will not be provided\nIf you have large bike flags\, please bring them.\nWater WILL NOT be provided\, please bring your own.\n\n\nSubmitted By: Alan Niemeyer \nPosition: Michigan State Captain \n\nNote: You do not have to own/ride a motorcycle or be a veteran to join\, and membership is Free. The only requirement is RESPECT! To subscribe to receive mission notices\, log into the National Site and click on the Members tab at the top. Select the Subscribe to PGR Missions option.\n Print This Page
URL:https://www.patriotguard.org/mission/kenneth-r-ray/
CATEGORIES:Honor Mission
END:VEVENT
END:VCALENDAR