BEGIN:VCALENDAR
VERSION:2.0
PRODID:-//Patriot Guard Riders - ECPv5.6.0//NONSGML v1.0//EN
CALSCALE:GREGORIAN
METHOD:PUBLISH
X-WR-CALNAME:Patriot Guard Riders
X-ORIGINAL-URL:https://www.patriotguard.org
X-WR-CALDESC:Events for Patriot Guard Riders
BEGIN:VTIMEZONE
TZID:America/New_York
BEGIN:DAYLIGHT
TZOFFSETFROM:-0500
TZOFFSETTO:-0400
TZNAME:EDT
DTSTART:20160313T070000
END:DAYLIGHT
BEGIN:STANDARD
TZOFFSETFROM:-0400
TZOFFSETTO:-0500
TZNAME:EST
DTSTART:20161106T060000
END:STANDARD
END:VTIMEZONE
BEGIN:VEVENT
DTSTART;TZID=America/New_York:20160609T090000
DTEND;TZID=America/New_York:20160609T110000
DTSTAMP:20210513T143249
CREATED:20160609T130000Z
LAST-MODIFIED:20191201T145314Z
UID:411481-1465462800-1465470000@www.patriotguard.org
SUMMARY:Kenneth R. Funkhouser\, 94\, USN
DESCRIPTION:The family of World War II Navy veteran\, S1C Kenneth R. Funkhouser\, 94\, has requested the Patriot Guard to honor him and his service on Thursday\, June 9\, 2016\, with a flag line and escort to the Springfield Veterans Cemetery for a 3 pm burial. \nS1C Funkhouser served in the U.S. Navy from May 1944 to January 1946 in the Pacific.  He earned the Philippine Liberation medal\, Asiatic Pacific ribbon with 1 star and Victory Medal. \nStage and briefing: 12:45 pm at 1947 E. Seminole Street\, Springfield\, MO \nFlag line:  1 pm at 1947 E. Seminole Street\, Springfield\, MO \nEscort to MVC on Evans Road following service \nRCIC:\nPhillip Fels\n417-207-3325 \nFlag support:\nCindy Arnold
URL:https://www.patriotguard.org/mission/kenneth-r-funkhouser-94-usn/
END:VEVENT
END:VCALENDAR