BEGIN:VCALENDAR
VERSION:2.0
PRODID:-//Patriot Guard Riders - ECPv5.6.0//NONSGML v1.0//EN
CALSCALE:GREGORIAN
METHOD:PUBLISH
X-WR-CALNAME:Patriot Guard Riders
X-ORIGINAL-URL:https://www.patriotguard.org
X-WR-CALDESC:Events for Patriot Guard Riders
BEGIN:VTIMEZONE
TZID:America/New_York
BEGIN:DAYLIGHT
TZOFFSETFROM:-0500
TZOFFSETTO:-0400
TZNAME:EDT
DTSTART:20160313T070000
END:DAYLIGHT
BEGIN:STANDARD
TZOFFSETFROM:-0400
TZOFFSETTO:-0500
TZNAME:EST
DTSTART:20161106T060000
END:STANDARD
END:VTIMEZONE
BEGIN:VEVENT
DTSTART;TZID=America/New_York:20160706T090000
DTEND;TZID=America/New_York:20160706T110000
DTSTAMP:20210512T132024
CREATED:20160706T130000Z
LAST-MODIFIED:20191201T144548Z
UID:410810-1467795600-1467802800@www.patriotguard.org
SUMMARY:Kenneth Pierre\, USA
DESCRIPTION:Please note that due to ongoing OPSEC concerns\, mission details are not shown in this posting. All specific details and updates have been sent to members directly via their e-mail address on file. \nMembers: \n\nThe family of Kenneth Pierre has requested the participation of the Patriot Guard Riders in his military honors funeral.  Another of our “Greatest Generation” has passed on. \n\nWHEN / WHERE:\nWednesday\, July 6th\nCohoes\, NY \nLRC – Ray Sestak \nABOUT THE MISSION:\nKenneth answered his country’s call to service in World War II.  From his OBIT:\nKenneth was a lifelong area resident and attended Coyne Electrical School in Chicago. He was employed at Albany International as a maintenance worker and was a proud WWII Veteran of the United States Army. While serving in the Army\, PFC Pierre was the recipient of the Army of Occupation Medal\, the European African Middle Eastern Campaign Medal and the World War II Victory Medal. Ken was a member of the Moose Cohoes Lodge #1332\, and the American Legion E.T. Ruane Post #476. \nThe Patriot Guard Riders will be privileged to be there to render Honor\, Dignity and Respect for the life and service of Kenneth Pierre.
URL:https://www.patriotguard.org/mission/kenneth-pierre-usa/
CATEGORIES:Archive
END:VEVENT
END:VCALENDAR